BEGIN:VCALENDAR
VERSION:2.0
PRODID:-//Steele Cooperative Preschool - ECPv6.4.0//NONSGML v1.0//EN
CALSCALE:GREGORIAN
METHOD:PUBLISH
X-WR-CALNAME:Steele Cooperative Preschool
X-ORIGINAL-URL:https://steelecooperativepreschool.org
X-WR-CALDESC:Events for Steele Cooperative Preschool
REFRESH-INTERVAL;VALUE=DURATION:PT1H
X-Robots-Tag:noindex
X-PUBLISHED-TTL:PT1H
BEGIN:VTIMEZONE
TZID:UTC
BEGIN:STANDARD
TZOFFSETFROM:+0000
TZOFFSETTO:+0000
TZNAME:UTC
DTSTART:20250101T000000
END:STANDARD
END:VTIMEZONE
BEGIN:VEVENT
DTSTART;TZID=UTC:20250123T090000
DTEND;TZID=UTC:20250123T130000
DTSTAMP:20260423T070421
CREATED:20250109T064736Z
LAST-MODIFIED:20250109T064736Z
UID:3670-1737622800-1737637200@steelecooperativepreschool.org
SUMMARY:Field Trip: National Western Stock Show (No Classes)
DESCRIPTION:
URL:https://steelecooperativepreschool.org/event/field-trip-national-western-stock-show-no-classes/
CATEGORIES:Field Trips
END:VEVENT
END:VCALENDAR