BEGIN:VCALENDAR
VERSION:2.0
PRODID:-//Steele Cooperative Preschool - ECPv6.4.0//NONSGML v1.0//EN
CALSCALE:GREGORIAN
METHOD:PUBLISH
X-ORIGINAL-URL:https://steelecooperativepreschool.org
X-WR-CALDESC:Events for Steele Cooperative Preschool
REFRESH-INTERVAL;VALUE=DURATION:PT1H
X-Robots-Tag:noindex
X-PUBLISHED-TTL:PT1H
BEGIN:VTIMEZONE
TZID:UTC
BEGIN:STANDARD
TZOFFSETFROM:+0000
TZOFFSETTO:+0000
TZNAME:UTC
DTSTART:20240101T000000
END:STANDARD
END:VTIMEZONE
BEGIN:VEVENT
DTSTART;VALUE=DATE:20241223
DTEND;VALUE=DATE:20250108
DTSTAMP:20260423T033904
CREATED:20240810T181824Z
LAST-MODIFIED:20240810T181824Z
UID:3389-1734912000-1736294399@steelecooperativepreschool.org
SUMMARY:Winter Break
DESCRIPTION:No classes.\nClasses resume January 8\, 2025.
URL:https://steelecooperativepreschool.org/event/winter-break-2024-25/
CATEGORIES:Holiday/Vacation
END:VEVENT
BEGIN:VEVENT
DTSTART;VALUE=DATE:20250102
DTEND;VALUE=DATE:20250103
DTSTAMP:20260423T033904
CREATED:20240810T172254Z
LAST-MODIFIED:20240819T034607Z
UID:3347-1735776000-1735862399@steelecooperativepreschool.org
SUMMARY:Tuition Due
DESCRIPTION:
URL:https://steelecooperativepreschool.org/event/tuition-due-jan2025/
CATEGORIES:Tuition & Paperwork Due Dates
END:VEVENT
BEGIN:VEVENT
DTSTART;TZID=UTC:20250108T120000
DTEND;TZID=UTC:20250108T150000
DTSTAMP:20260423T033904
CREATED:20240810T182707Z
LAST-MODIFIED:20240810T182707Z
UID:3393-1736337600-1736348400@steelecooperativepreschool.org
SUMMARY:First Day Back: Frogs
DESCRIPTION:
URL:https://steelecooperativepreschool.org/event/first-day-back-frogs-jan2025/
LOCATION:Steele Cooperative Preschool
CATEGORIES:First & Last Days
END:VEVENT
BEGIN:VEVENT
DTSTART;TZID=UTC:20250109T190000
DTEND;TZID=UTC:20250109T200000
DTSTAMP:20260423T033904
CREATED:20241217T173847Z
LAST-MODIFIED:20241217T173847Z
UID:3596-1736449200-1736452800@steelecooperativepreschool.org
SUMMARY:Parent Meeting
DESCRIPTION:
URL:https://steelecooperativepreschool.org/event/parent-meeting-26/
LOCATION:Steele Cooperative Preschool
CATEGORIES:Meetings,Parent Meetings
END:VEVENT
BEGIN:VEVENT
DTSTART;VALUE=DATE:20250114
DTEND;VALUE=DATE:20250115
DTSTAMP:20260423T033904
CREATED:20240810T173813Z
LAST-MODIFIED:20241004T080130Z
UID:3361-1736812800-1736899199@steelecooperativepreschool.org
SUMMARY:Late fee assessed for unpaid tuition
DESCRIPTION:
URL:https://steelecooperativepreschool.org/event/late-fee-assessed-jan2025/
CATEGORIES:Tuition & Paperwork Due Dates
END:VEVENT
BEGIN:VEVENT
DTSTART;TZID=UTC:20250117T113000
DTEND;TZID=UTC:20250117T121500
DTSTAMP:20260423T033904
CREATED:20250109T065101Z
LAST-MODIFIED:20250109T173912Z
UID:3674-1737113400-1737116100@steelecooperativepreschool.org
SUMMARY:Anchor Center Extracurricular
DESCRIPTION:
URL:https://steelecooperativepreschool.org/event/anchor-point-extracurricular/
LOCATION:Steele Cooperative Preschool
CATEGORIES:Social & Community Events
END:VEVENT
BEGIN:VEVENT
DTSTART;VALUE=DATE:20250120
DTEND;VALUE=DATE:20250121
DTSTAMP:20260423T033904
CREATED:20240810T183133Z
LAST-MODIFIED:20240810T183133Z
UID:3397-1737331200-1737417599@steelecooperativepreschool.org
SUMMARY:No School: MLK Jr. Day
DESCRIPTION:
URL:https://steelecooperativepreschool.org/event/mlk-jr-day-2025/
CATEGORIES:Holiday/Vacation
END:VEVENT
BEGIN:VEVENT
DTSTART;TZID=UTC:20250123T090000
DTEND;TZID=UTC:20250123T130000
DTSTAMP:20260423T033904
CREATED:20250109T064736Z
LAST-MODIFIED:20250109T064736Z
UID:3670-1737622800-1737637200@steelecooperativepreschool.org
SUMMARY:Field Trip: National Western Stock Show (No Classes)
DESCRIPTION:
URL:https://steelecooperativepreschool.org/event/field-trip-national-western-stock-show-no-classes/
CATEGORIES:Field Trips
END:VEVENT
BEGIN:VEVENT
DTSTART;VALUE=DATE:20250131
DTEND;VALUE=DATE:20250201
DTSTAMP:20260423T033904
CREATED:20250109T184001Z
LAST-MODIFIED:20250109T184001Z
UID:3685-1738281600-1738367999@steelecooperativepreschool.org
SUMMARY:Steele-A-Deal Donations Due
DESCRIPTION:Physical items due the week of February 10th.
URL:https://steelecooperativepreschool.org/event/steele-a-deal-donations-due-3/
CATEGORIES:Tuition & Paperwork Due Dates
END:VEVENT
END:VCALENDAR