BEGIN:VCALENDAR
VERSION:2.0
PRODID:-//Steele Cooperative Preschool - ECPv6.4.0//NONSGML v1.0//EN
CALSCALE:GREGORIAN
METHOD:PUBLISH
X-WR-CALNAME:Steele Cooperative Preschool
X-ORIGINAL-URL:https://steelecooperativepreschool.org
X-WR-CALDESC:Events for Steele Cooperative Preschool
REFRESH-INTERVAL;VALUE=DURATION:PT1H
X-Robots-Tag:noindex
X-PUBLISHED-TTL:PT1H
BEGIN:VTIMEZONE
TZID:UTC
BEGIN:STANDARD
TZOFFSETFROM:+0000
TZOFFSETTO:+0000
TZNAME:UTC
DTSTART:20240101T000000
END:STANDARD
END:VTIMEZONE
BEGIN:VEVENT
DTSTART;VALUE=DATE:20241201
DTEND;VALUE=DATE:20241202
DTSTAMP:20260423T084648
CREATED:20240810T172118Z
LAST-MODIFIED:20240819T035328Z
UID:3345-1733011200-1733097599@steelecooperativepreschool.org
SUMMARY:Tuition Due
DESCRIPTION:
URL:https://steelecooperativepreschool.org/event/tuition-due-dec2024/
CATEGORIES:Tuition & Paperwork Due Dates
END:VEVENT
BEGIN:VEVENT
DTSTART;VALUE=DATE:20241207
DTEND;VALUE=DATE:20241208
DTSTAMP:20260423T084648
CREATED:20240810T173709Z
LAST-MODIFIED:20240819T034607Z
UID:3359-1733529600-1733615999@steelecooperativepreschool.org
SUMMARY:Late fee assessed for unpaid tuition
DESCRIPTION:
URL:https://steelecooperativepreschool.org/event/late-fee-assessed-dec2024/
CATEGORIES:Tuition & Paperwork Due Dates
END:VEVENT
BEGIN:VEVENT
DTSTART;TZID=UTC:20241211T110000
DTEND;TZID=UTC:20241211T140000
DTSTAMP:20260423T084648
CREATED:20241029T170027Z
LAST-MODIFIED:20241029T170027Z
UID:3543-1733914800-1733925600@steelecooperativepreschool.org
SUMMARY:Polliwogs/Frogs Field Trip: Elephant & Piggie's "We're in a Play"
DESCRIPTION:No classes will be held this day.
URL:https://steelecooperativepreschool.org/event/polliwogs-frogs-field-trip-elephant-piggies-were-in-a-play/
LOCATION:Denver Center for the Performing Arts\, Denver
CATEGORIES:Field Trips
END:VEVENT
BEGIN:VEVENT
DTSTART;TZID=UTC:20241217T190000
DTEND;TZID=UTC:20241217T200000
DTSTAMP:20260423T084648
CREATED:20241217T174501Z
LAST-MODIFIED:20241217T174520Z
UID:3608-1734462000-1734465600@steelecooperativepreschool.org
SUMMARY:Parent Meeting
DESCRIPTION:
URL:https://steelecooperativepreschool.org/event/parent-meeting-29/
LOCATION:Steele Cooperative Preschool
CATEGORIES:Meetings,Parent Meetings
END:VEVENT
BEGIN:VEVENT
DTSTART;TZID=UTC:20241219T120000
DTEND;TZID=UTC:20241219T150000
DTSTAMP:20260423T084648
CREATED:20240810T181531Z
LAST-MODIFIED:20240810T181531Z
UID:3387-1734609600-1734620400@steelecooperativepreschool.org
SUMMARY:Frogs Holiday Party
DESCRIPTION:
URL:https://steelecooperativepreschool.org/event/frogs-holiday-party-2024/
LOCATION:Steele Cooperative Preschool
CATEGORIES:Celebrations
END:VEVENT
BEGIN:VEVENT
DTSTART;VALUE=DATE:20241223
DTEND;VALUE=DATE:20250108
DTSTAMP:20260423T084648
CREATED:20240810T181824Z
LAST-MODIFIED:20240810T181824Z
UID:3389-1734912000-1736294399@steelecooperativepreschool.org
SUMMARY:Winter Break
DESCRIPTION:No classes.\nClasses resume January 8\, 2025.
URL:https://steelecooperativepreschool.org/event/winter-break-2024-25/
CATEGORIES:Holiday/Vacation
END:VEVENT
END:VCALENDAR