BEGIN:VCALENDAR
VERSION:2.0
PRODID:-//Steele Cooperative Preschool - ECPv6.4.0//NONSGML v1.0//EN
CALSCALE:GREGORIAN
METHOD:PUBLISH
X-WR-CALNAME:Steele Cooperative Preschool
X-ORIGINAL-URL:https://steelecooperativepreschool.org
X-WR-CALDESC:Events for Steele Cooperative Preschool
REFRESH-INTERVAL;VALUE=DURATION:PT1H
X-Robots-Tag:noindex
X-PUBLISHED-TTL:PT1H
BEGIN:VTIMEZONE
TZID:UTC
BEGIN:STANDARD
TZOFFSETFROM:+0000
TZOFFSETTO:+0000
TZNAME:UTC
DTSTART:20240101T000000
END:STANDARD
END:VTIMEZONE
BEGIN:VEVENT
DTSTART;VALUE=DATE:20241101
DTEND;VALUE=DATE:20241102
DTSTAMP:20260423T104039
CREATED:20240810T171941Z
LAST-MODIFIED:20240819T034608Z
UID:3343-1730419200-1730505599@steelecooperativepreschool.org
SUMMARY:Tuition Due
DESCRIPTION:
URL:https://steelecooperativepreschool.org/event/tuition-due-nov2024/
CATEGORIES:Tuition & Paperwork Due Dates
END:VEVENT
BEGIN:VEVENT
DTSTART;TZID=UTC:20241104T120000
DTEND;TZID=UTC:20241104T150000
DTSTAMP:20260423T104039
CREATED:20240810T180247Z
LAST-MODIFIED:20240810T180247Z
UID:3379-1730721600-1730732400@steelecooperativepreschool.org
SUMMARY:Frogs Parent-Teacher Conferences
DESCRIPTION:NO CLASS\nParent/Teacher conferences during class time
URL:https://steelecooperativepreschool.org/event/frogs-parent-teacher-conferences-fall2025/
CATEGORIES:Conferences
END:VEVENT
BEGIN:VEVENT
DTSTART;VALUE=DATE:20241107
DTEND;VALUE=DATE:20241108
DTSTAMP:20260423T104039
CREATED:20240810T173529Z
LAST-MODIFIED:20240819T034607Z
UID:3357-1730937600-1731023999@steelecooperativepreschool.org
SUMMARY:Late fee assessed for unpaid tuition
DESCRIPTION:
URL:https://steelecooperativepreschool.org/event/late-fee-assessed-nov2025/
CATEGORIES:Tuition & Paperwork Due Dates
END:VEVENT
BEGIN:VEVENT
DTSTART;TZID=UTC:20241114T120000
DTEND;TZID=UTC:20241114T123000
DTSTAMP:20260423T104039
CREATED:20241029T165407Z
LAST-MODIFIED:20241029T165407Z
UID:3539-1731585600-1731587400@steelecooperativepreschool.org
SUMMARY:Frogs Class Field Trip: Bienvenidos Food Bank
DESCRIPTION:Class will follow at the school\, 12:30pm-3pm.
URL:https://steelecooperativepreschool.org/event/frogs-class-field-trip-bienvenidos-food-bank/
LOCATION:Bienvenidos Food Bank\, 3810 Pecos Street\, Denver\, CO\, 80211\, United States
CATEGORIES:Field Trips
END:VEVENT
BEGIN:VEVENT
DTSTART;VALUE=DATE:20241125
DTEND;VALUE=DATE:20241130
DTSTAMP:20260423T104039
CREATED:20240810T181123Z
LAST-MODIFIED:20240810T181123Z
UID:3383-1732492800-1732924799@steelecooperativepreschool.org
SUMMARY:Thanksgiving Break
DESCRIPTION:No classes
URL:https://steelecooperativepreschool.org/event/thanksgiving-break-2024/
CATEGORIES:Holiday/Vacation
END:VEVENT
END:VCALENDAR