BEGIN:VCALENDAR
VERSION:2.0
PRODID:-//Steele Cooperative Preschool - ECPv6.4.0//NONSGML v1.0//EN
CALSCALE:GREGORIAN
METHOD:PUBLISH
X-ORIGINAL-URL:https://steelecooperativepreschool.org
X-WR-CALDESC:Events for Steele Cooperative Preschool
REFRESH-INTERVAL;VALUE=DURATION:PT1H
X-Robots-Tag:noindex
X-PUBLISHED-TTL:PT1H
BEGIN:VTIMEZONE
TZID:UTC
BEGIN:STANDARD
TZOFFSETFROM:+0000
TZOFFSETTO:+0000
TZNAME:UTC
DTSTART:20250101T000000
END:STANDARD
END:VTIMEZONE
BEGIN:VEVENT
DTSTART;VALUE=DATE:20250501
DTEND;VALUE=DATE:20250502
DTSTAMP:20260423T093749
CREATED:20250410T064236Z
LAST-MODIFIED:20250410T064236Z
UID:3898-1746057600-1746143999@steelecooperativepreschool.org
SUMMARY:Tuition & UPK/DPP Sign-Ups Due for 2025-2026 School Year
DESCRIPTION:
URL:https://steelecooperativepreschool.org/event/tuition-upk-dpp-sign-ups-due-for-2025-2026-school-year/
CATEGORIES:Tuition & Paperwork Due Dates
END:VEVENT
BEGIN:VEVENT
DTSTART;TZID=UTC:20250516T150000
DTEND;TZID=UTC:20250516T190000
DTSTAMP:20260423T093749
CREATED:20250414T040852Z
LAST-MODIFIED:20250414T040950Z
UID:3912-1747407600-1747422000@steelecooperativepreschool.org
SUMMARY:School Reserved
DESCRIPTION:
URL:https://steelecooperativepreschool.org/event/school-reserved-8/
LOCATION:Steele Cooperative Preschool
END:VEVENT
BEGIN:VEVENT
DTSTART;TZID=UTC:20250518T090000
DTEND;TZID=UTC:20250518T130000
DTSTAMP:20260423T093749
CREATED:20250502T032016Z
LAST-MODIFIED:20250502T032016Z
UID:3931-1747558800-1747573200@steelecooperativepreschool.org
SUMMARY:School Reserved
DESCRIPTION:
URL:https://steelecooperativepreschool.org/event/school-reserved-9/
LOCATION:Steele Cooperative Preschool
END:VEVENT
BEGIN:VEVENT
DTSTART;TZID=UTC:20250520T090000
DTEND;TZID=UTC:20250520T230000
DTSTAMP:20260423T093749
CREATED:20240810T190536Z
LAST-MODIFIED:20240810T190536Z
UID:3423-1747731600-1747782000@steelecooperativepreschool.org
SUMMARY:Last Day of School: Tadpoles
DESCRIPTION:
URL:https://steelecooperativepreschool.org/event/last-day-of-school-tadpoles-2/
LOCATION:Steele Cooperative Preschool
CATEGORIES:First & Last Days
END:VEVENT
BEGIN:VEVENT
DTSTART;TZID=UTC:20250521T090000
DTEND;TZID=UTC:20250521T113000
DTSTAMP:20260423T093749
CREATED:20240810T190830Z
LAST-MODIFIED:20240810T190830Z
UID:3428-1747818000-1747827000@steelecooperativepreschool.org
SUMMARY:Last Day of School: Polliwogs
DESCRIPTION:
URL:https://steelecooperativepreschool.org/event/last-day-of-school-polliwogs-2025/
LOCATION:Steele Cooperative Preschool
CATEGORIES:First & Last Days
END:VEVENT
BEGIN:VEVENT
DTSTART;TZID=UTC:20250521T120000
DTEND;TZID=UTC:20250521T150000
DTSTAMP:20260423T093749
CREATED:20240810T191047Z
LAST-MODIFIED:20240810T191047Z
UID:3430-1747828800-1747839600@steelecooperativepreschool.org
SUMMARY:Last Day of School: Frogs
DESCRIPTION:
URL:https://steelecooperativepreschool.org/event/last-day-of-school-frogs-2025/
LOCATION:Steele Cooperative Preschool
CATEGORIES:First & Last Days
END:VEVENT
BEGIN:VEVENT
DTSTART;TZID=UTC:20250522T093000
DTEND;TZID=UTC:20250522T100000
DTSTAMP:20260423T093749
CREATED:20240810T191502Z
LAST-MODIFIED:20250313T043306Z
UID:3436-1747906200-1747908000@steelecooperativepreschool.org
SUMMARY:Frogs Continuation
DESCRIPTION:
URL:https://steelecooperativepreschool.org/event/frogs-continuation-2025/
CATEGORIES:Celebrations,First & Last Days
END:VEVENT
BEGIN:VEVENT
DTSTART;TZID=UTC:20250522T093000
DTEND;TZID=UTC:20250522T113000
DTSTAMP:20260423T093749
CREATED:20240810T191257Z
LAST-MODIFIED:20250313T043451Z
UID:3432-1747906200-1747913400@steelecooperativepreschool.org
SUMMARY:Field Day
DESCRIPTION:9:30 am – 10:15 am: Tadpoles & Polliwogs \n10:30 am – 11:30 am: Frogs
URL:https://steelecooperativepreschool.org/event/field-day-6/
CATEGORIES:Social & Community Events
END:VEVENT
BEGIN:VEVENT
DTSTART;TZID=UTC:20250531T090000
DTEND;TZID=UTC:20250531T130000
DTSTAMP:20260423T093749
CREATED:20250502T032131Z
LAST-MODIFIED:20250502T032131Z
UID:3933-1748682000-1748696400@steelecooperativepreschool.org
SUMMARY:School Reserved
DESCRIPTION:
URL:https://steelecooperativepreschool.org/event/school-reserved-10/
LOCATION:Steele Cooperative Preschool
END:VEVENT
END:VCALENDAR