BEGIN:VCALENDAR
VERSION:2.0
PRODID:-//Steele Cooperative Preschool - ECPv6.4.0//NONSGML v1.0//EN
CALSCALE:GREGORIAN
METHOD:PUBLISH
X-WR-CALNAME:Steele Cooperative Preschool
X-ORIGINAL-URL:https://steelecooperativepreschool.org
X-WR-CALDESC:Events for Steele Cooperative Preschool
REFRESH-INTERVAL;VALUE=DURATION:PT1H
X-Robots-Tag:noindex
X-PUBLISHED-TTL:PT1H
BEGIN:VTIMEZONE
TZID:UTC
BEGIN:STANDARD
TZOFFSETFROM:+0000
TZOFFSETTO:+0000
TZNAME:UTC
DTSTART:20250101T000000
END:STANDARD
END:VTIMEZONE
BEGIN:VEVENT
DTSTART;VALUE=DATE:20250401
DTEND;VALUE=DATE:20250402
DTSTAMP:20260423T110334
CREATED:20240810T172945Z
LAST-MODIFIED:20240819T034605Z
UID:3353-1743465600-1743551999@steelecooperativepreschool.org
SUMMARY:Tuition Due
DESCRIPTION:
URL:https://steelecooperativepreschool.org/event/tuition-due-apr2024/
CATEGORIES:Tuition & Paperwork Due Dates
END:VEVENT
BEGIN:VEVENT
DTSTART;VALUE=DATE:20250401
DTEND;VALUE=DATE:20250402
DTSTAMP:20260423T110334
CREATED:20250109T065628Z
LAST-MODIFIED:20250109T065628Z
UID:3682-1743465600-1743551999@steelecooperativepreschool.org
SUMMARY:Enrollment and Participation Forms for 2025-2026 Due
DESCRIPTION:
URL:https://steelecooperativepreschool.org/event/enrollment-and-participation-forms-for-2025-2026-due/
CATEGORIES:Tuition & Paperwork Due Dates
END:VEVENT
BEGIN:VEVENT
DTSTART;TZID=UTC:20250401T090000
DTEND;TZID=UTC:20250401T110000
DTSTAMP:20260423T110334
CREATED:20240810T190324Z
LAST-MODIFIED:20240810T190324Z
UID:3421-1743498000-1743505200@steelecooperativepreschool.org
SUMMARY:First Day Back: Tadpoles
DESCRIPTION:
URL:https://steelecooperativepreschool.org/event/first-day-back-tadpoles-spring2025/
LOCATION:Steele Cooperative Preschool
CATEGORIES:First & Last Days
END:VEVENT
BEGIN:VEVENT
DTSTART;TZID=UTC:20250404T120000
DTEND;TZID=UTC:20250404T150000
DTSTAMP:20260423T110334
CREATED:20250109T064903Z
LAST-MODIFIED:20250109T064903Z
UID:3672-1743768000-1743778800@steelecooperativepreschool.org
SUMMARY:School Pictures
DESCRIPTION:
URL:https://steelecooperativepreschool.org/event/school-pictures/
CATEGORIES:Social & Community Events
END:VEVENT
BEGIN:VEVENT
DTSTART;VALUE=DATE:20250407
DTEND;VALUE=DATE:20250408
DTSTAMP:20260423T110334
CREATED:20240810T174251Z
LAST-MODIFIED:20240819T034605Z
UID:3367-1743984000-1744070399@steelecooperativepreschool.org
SUMMARY:Late fee assessed for unpaid tuition
DESCRIPTION:
URL:https://steelecooperativepreschool.org/event/late-fee-assessed-apr2025/
CATEGORIES:Tuition & Paperwork Due Dates
END:VEVENT
BEGIN:VEVENT
DTSTART;VALUE=DATE:20250410
DTEND;VALUE=DATE:20250411
DTSTAMP:20260423T110334
CREATED:20250410T064602Z
LAST-MODIFIED:20250410T064602Z
UID:3901-1744243200-1744329599@steelecooperativepreschool.org
SUMMARY:Anchor Center Plant-n-Picnic
DESCRIPTION:
URL:https://steelecooperativepreschool.org/event/anchor-center-plant-n-picnic/
LOCATION:Anchor Center\, 2550 Roslyn St\, Denver\, CO\, 80238\, United States
CATEGORIES:Social & Community Events
END:VEVENT
BEGIN:VEVENT
DTSTART;VALUE=DATE:20250410
DTEND;VALUE=DATE:20250411
DTSTAMP:20260423T110334
CREATED:20250410T064842Z
LAST-MODIFIED:20250410T064842Z
UID:3906-1744243200-1744329599@steelecooperativepreschool.org
SUMMARY:Lakeside Summer Day
DESCRIPTION:
URL:https://steelecooperativepreschool.org/event/lakeside-summer-day/
LOCATION:Lakeside Amusement Park
CATEGORIES:Social & Community Events
END:VEVENT
BEGIN:VEVENT
DTSTART;TZID=UTC:20250410T180000
DTEND;TZID=UTC:20250410T190000
DTSTAMP:20260423T110334
CREATED:20241217T174408Z
LAST-MODIFIED:20241217T174712Z
UID:3606-1744308000-1744311600@steelecooperativepreschool.org
SUMMARY:Board Member Meeting
DESCRIPTION:
URL:https://steelecooperativepreschool.org/event/board-member-meeting-17/
LOCATION:Steele Cooperative Preschool
CATEGORIES:Board Meetings
END:VEVENT
BEGIN:VEVENT
DTSTART;TZID=UTC:20250410T190000
DTEND;TZID=UTC:20250410T200000
DTSTAMP:20260423T110334
CREATED:20241217T175023Z
LAST-MODIFIED:20241217T175023Z
UID:3611-1744311600-1744315200@steelecooperativepreschool.org
SUMMARY:Parent Meeting
DESCRIPTION:
URL:https://steelecooperativepreschool.org/event/parent-meeting-30/
LOCATION:Steele Cooperative Preschool
CATEGORIES:Meetings,Parent Meetings
END:VEVENT
BEGIN:VEVENT
DTSTART;TZID=UTC:20250411T123000
DTEND;TZID=UTC:20250411T140000
DTSTAMP:20260423T110334
CREATED:20250410T063557Z
LAST-MODIFIED:20250410T063557Z
UID:3896-1744374600-1744380000@steelecooperativepreschool.org
SUMMARY:School Reserved
DESCRIPTION:
URL:https://steelecooperativepreschool.org/event/school-reserved-7/
END:VEVENT
BEGIN:VEVENT
DTSTART;TZID=UTC:20250412T090000
DTEND;TZID=UTC:20250412T170000
DTSTAMP:20260423T110334
CREATED:20250212T175234Z
LAST-MODIFIED:20250212T175234Z
UID:3736-1744448400-1744477200@steelecooperativepreschool.org
SUMMARY:Suds for Steele
DESCRIPTION:Give your car a shiny spring refresh! Gleam Car Wash will donate a portion of proceeds to Steele.
URL:https://steelecooperativepreschool.org/event/suds-for-steele-2/
LOCATION:Gleam Car Wash\, 4895 W 38th Ave\, Denver\, CO\, 80211\, United States
END:VEVENT
BEGIN:VEVENT
DTSTART;TZID=UTC:20250413T093000
DTEND;TZID=UTC:20250413T123000
DTSTAMP:20260423T110334
CREATED:20250313T042942Z
LAST-MODIFIED:20250313T042942Z
UID:3779-1744536600-1744547400@steelecooperativepreschool.org
SUMMARY:School Reserved
DESCRIPTION:
URL:https://steelecooperativepreschool.org/event/school-reserved-6/
LOCATION:Steele Cooperative Preschool
END:VEVENT
BEGIN:VEVENT
DTSTART;TZID=UTC:20250428T190000
DTEND;TZID=UTC:20250428T200000
DTSTAMP:20260423T110334
CREATED:20250313T043134Z
LAST-MODIFIED:20250313T043134Z
UID:3781-1745866800-1745870400@steelecooperativepreschool.org
SUMMARY:Community Book Club: Blue Sisters
DESCRIPTION:
URL:https://steelecooperativepreschool.org/event/community-book-club-blue-sisters/
CATEGORIES:Social & Community Events
END:VEVENT
END:VCALENDAR