BEGIN:VCALENDAR
VERSION:2.0
PRODID:-//Steele Cooperative Preschool - ECPv6.4.0//NONSGML v1.0//EN
CALSCALE:GREGORIAN
METHOD:PUBLISH
X-ORIGINAL-URL:https://steelecooperativepreschool.org
X-WR-CALDESC:Events for Steele Cooperative Preschool
REFRESH-INTERVAL;VALUE=DURATION:PT1H
X-Robots-Tag:noindex
X-PUBLISHED-TTL:PT1H
BEGIN:VTIMEZONE
TZID:UTC
BEGIN:STANDARD
TZOFFSETFROM:+0000
TZOFFSETTO:+0000
TZNAME:UTC
DTSTART:20250101T000000
END:STANDARD
END:VTIMEZONE
BEGIN:VEVENT
DTSTART;VALUE=DATE:20250301
DTEND;VALUE=DATE:20250302
DTSTAMP:20260423T174322
CREATED:20240810T172556Z
LAST-MODIFIED:20240819T034606Z
UID:3351-1740787200-1740873599@steelecooperativepreschool.org
SUMMARY:Tuition Due
DESCRIPTION:
URL:https://steelecooperativepreschool.org/event/tuition-due-mar2025/
CATEGORIES:Tuition & Paperwork Due Dates
END:VEVENT
BEGIN:VEVENT
DTSTART;VALUE=DATE:20250301
DTEND;VALUE=DATE:20250302
DTSTAMP:20260423T174322
CREATED:20250109T065424Z
LAST-MODIFIED:20250109T065424Z
UID:3680-1740787200-1740873599@steelecooperativepreschool.org
SUMMARY:Lottery Registration for 2025-2026 Closes
DESCRIPTION:
URL:https://steelecooperativepreschool.org/event/lottery-registration-for-2025-2026-closes/
CATEGORIES:Tuition & Paperwork Due Dates
END:VEVENT
BEGIN:VEVENT
DTSTART;TZID=UTC:20250302T093000
DTEND;TZID=UTC:20250302T123000
DTSTAMP:20260423T174322
CREATED:20250212T175034Z
LAST-MODIFIED:20250212T175317Z
UID:3734-1740907800-1740918600@steelecooperativepreschool.org
SUMMARY:School Reserved
DESCRIPTION:
URL:https://steelecooperativepreschool.org/event/school-reserved-5/
END:VEVENT
BEGIN:VEVENT
DTSTART;VALUE=DATE:20250307
DTEND;VALUE=DATE:20250308
DTSTAMP:20260423T174322
CREATED:20240810T174025Z
LAST-MODIFIED:20240819T034605Z
UID:3365-1741305600-1741391999@steelecooperativepreschool.org
SUMMARY:Late fee assessed for unpaid tuition
DESCRIPTION:
URL:https://steelecooperativepreschool.org/event/late-fee-assessed-mar2025/
CATEGORIES:Tuition & Paperwork Due Dates
END:VEVENT
BEGIN:VEVENT
DTSTART;VALUE=DATE:20250308
DTEND;VALUE=DATE:20250309
DTSTAMP:20260423T174322
CREATED:20240810T184252Z
LAST-MODIFIED:20250209T045159Z
UID:3407-1741392000-1741478399@steelecooperativepreschool.org
SUMMARY:Steele-A-Deal (DATE CHANGE)
DESCRIPTION:Steele’s flagship fundraiser with auction and community fun!
URL:https://steelecooperativepreschool.org/event/steele-a-deal-2025/
LOCATION:The Kirk of Highland\, 3011 Vallejo Street\, Denver\, CO\, 80211\, United States
CATEGORIES:Social & Community Events
ORGANIZER;CN="Steele Preschool Fundraising":MAILTO:steelepreschoolfundraising@gmail.com
END:VEVENT
BEGIN:VEVENT
DTSTART;TZID=UTC:20250313T180000
DTEND;TZID=UTC:20250313T190000
DTSTAMP:20260423T174322
CREATED:20241217T174114Z
LAST-MODIFIED:20241217T174114Z
UID:3602-1741888800-1741892400@steelecooperativepreschool.org
SUMMARY:Board Member Meeting
DESCRIPTION:
URL:https://steelecooperativepreschool.org/event/board-member-meeting-16/
LOCATION:Steele Cooperative Preschool
CATEGORIES:Board Meetings
END:VEVENT
BEGIN:VEVENT
DTSTART;TZID=UTC:20250313T190000
DTEND;TZID=UTC:20250313T200000
DTSTAMP:20260423T174322
CREATED:20241217T174213Z
LAST-MODIFIED:20241217T174213Z
UID:3604-1741892400-1741896000@steelecooperativepreschool.org
SUMMARY:Parent Meeting
DESCRIPTION:
URL:https://steelecooperativepreschool.org/event/parent-meeting-28/
LOCATION:Steele Cooperative Preschool
CATEGORIES:Parent Meetings
END:VEVENT
BEGIN:VEVENT
DTSTART;VALUE=DATE:20250317
DTEND;VALUE=DATE:20250329
DTSTAMP:20260423T174322
CREATED:20240810T184918Z
LAST-MODIFIED:20240810T184918Z
UID:3409-1742169600-1743206399@steelecooperativepreschool.org
SUMMARY:Spring Break
DESCRIPTION:
URL:https://steelecooperativepreschool.org/event/spring-break-2025/
CATEGORIES:Holiday/Vacation
END:VEVENT
BEGIN:VEVENT
DTSTART;TZID=UTC:20250317T090000
DTEND;TZID=UTC:20250317T113000
DTSTAMP:20260423T174322
CREATED:20240810T185324Z
LAST-MODIFIED:20240810T185324Z
UID:3411-1742202000-1742211000@steelecooperativepreschool.org
SUMMARY:Polliwogs Parent-Teacher Conferences
DESCRIPTION:NO CLASS (Spring Break)\nParent/Teacher conferences during usual class time or as scheduled with teacher.
URL:https://steelecooperativepreschool.org/event/polliwogs-parent-teacher-conferences-spring2025/
LOCATION:Steele Cooperative Preschool
CATEGORIES:Conferences
END:VEVENT
BEGIN:VEVENT
DTSTART;TZID=UTC:20250317T120000
DTEND;TZID=UTC:20250317T150000
DTSTAMP:20260423T174322
CREATED:20240810T185532Z
LAST-MODIFIED:20240810T185532Z
UID:3413-1742212800-1742223600@steelecooperativepreschool.org
SUMMARY:Frogs Parent/Teacher Conferences
DESCRIPTION:NO CLASS (Spring Break)\nParent/Teacher conferences during usual class time or as scheduled with teacher.
URL:https://steelecooperativepreschool.org/event/frogs-parent-teacher-conferences-spring2025/
LOCATION:Steele Cooperative Preschool
CATEGORIES:Conferences
END:VEVENT
BEGIN:VEVENT
DTSTART;TZID=UTC:20250318T090000
DTEND;TZID=UTC:20250318T110000
DTSTAMP:20260423T174322
CREATED:20240810T185810Z
LAST-MODIFIED:20240810T185810Z
UID:3415-1742288400-1742295600@steelecooperativepreschool.org
SUMMARY:Tadpoles Parent-Teacher Conferences
DESCRIPTION:NO CLASS (Spring Break)\nParent/Teacher conferences during usual class time or as scheduled with teacher.
URL:https://steelecooperativepreschool.org/event/tadpoles-parent-teacher-conferences-spring2025/
LOCATION:Steele Cooperative Preschool
CATEGORIES:Conferences
END:VEVENT
BEGIN:VEVENT
DTSTART;TZID=UTC:20250331T090000
DTEND;TZID=UTC:20250331T113000
DTSTAMP:20260423T174322
CREATED:20240810T190026Z
LAST-MODIFIED:20240810T190026Z
UID:3417-1743411600-1743420600@steelecooperativepreschool.org
SUMMARY:First Day Back: Polliwogs
DESCRIPTION:
URL:https://steelecooperativepreschool.org/event/first-day-back-polliwogs-spring2025/
LOCATION:Steele Cooperative Preschool
CATEGORIES:First & Last Days
END:VEVENT
BEGIN:VEVENT
DTSTART;TZID=UTC:20250331T120000
DTEND;TZID=UTC:20250331T150000
DTSTAMP:20260423T174322
CREATED:20240810T190155Z
LAST-MODIFIED:20240810T190155Z
UID:3419-1743422400-1743433200@steelecooperativepreschool.org
SUMMARY:First Day Back: Frogs
DESCRIPTION:
URL:https://steelecooperativepreschool.org/event/first-day-back-frogs-spring2025/
LOCATION:Steele Cooperative Preschool
CATEGORIES:First & Last Days
END:VEVENT
END:VCALENDAR