BEGIN:VCALENDAR
VERSION:2.0
PRODID:-//Steele Cooperative Preschool - ECPv6.4.0//NONSGML v1.0//EN
CALSCALE:GREGORIAN
METHOD:PUBLISH
X-ORIGINAL-URL:https://steelecooperativepreschool.org
X-WR-CALDESC:Events for Steele Cooperative Preschool
REFRESH-INTERVAL;VALUE=DURATION:PT1H
X-Robots-Tag:noindex
X-PUBLISHED-TTL:PT1H
BEGIN:VTIMEZONE
TZID:UTC
BEGIN:STANDARD
TZOFFSETFROM:+0000
TZOFFSETTO:+0000
TZNAME:UTC
DTSTART:20240101T000000
END:STANDARD
END:VTIMEZONE
BEGIN:VEVENT
DTSTART;VALUE=DATE:20241001
DTEND;VALUE=DATE:20241002
DTSTAMP:20260424T123249
CREATED:20240810T171707Z
LAST-MODIFIED:20240819T034608Z
UID:3341-1727740800-1727827199@steelecooperativepreschool.org
SUMMARY:Tuition Due
DESCRIPTION:
URL:https://steelecooperativepreschool.org/event/tuition-due-sept2024/
END:VEVENT
BEGIN:VEVENT
DTSTART;TZID=UTC:20241003T100000
DTEND;TZID=UTC:20241003T130000
DTSTAMP:20260424T123249
CREATED:20240810T174902Z
LAST-MODIFIED:20240810T174902Z
UID:3369-1727949600-1727960400@steelecooperativepreschool.org
SUMMARY:Anderson Farms Field Trip
DESCRIPTION:All-school field trip. Families provide their own transportation. Regularly-scheduled Tadpoles and Frogs classes will not be held this day.
URL:https://steelecooperativepreschool.org/event/anderson-farms-field-trip-2024/
LOCATION:Anderson Farms\, 6728 County Rd. 3 1/4\, Erie\, CO\, 80516
CATEGORIES:Field Trips
END:VEVENT
BEGIN:VEVENT
DTSTART;VALUE=DATE:20241007
DTEND;VALUE=DATE:20241008
DTSTAMP:20260424T123249
CREATED:20240810T173216Z
LAST-MODIFIED:20240819T034608Z
UID:3355-1728259200-1728345599@steelecooperativepreschool.org
SUMMARY:Late fee assessed for unpaid tuition
DESCRIPTION:
URL:https://steelecooperativepreschool.org/event/late-fee-assessed-oct2024/
CATEGORIES:Tuition & Paperwork Due Dates
END:VEVENT
BEGIN:VEVENT
DTSTART;TZID=UTC:20241010T180000
DTEND;TZID=UTC:20241010T180000
DTSTAMP:20260424T123249
CREATED:20241004T074042Z
LAST-MODIFIED:20241004T074042Z
UID:3509-1728583200-1728583200@steelecooperativepreschool.org
SUMMARY:Board Member Meeting
DESCRIPTION:
URL:https://steelecooperativepreschool.org/event/board-member-meeting-12/
LOCATION:Steele Cooperative Preschool
CATEGORIES:Board Meetings
END:VEVENT
BEGIN:VEVENT
DTSTART;TZID=UTC:20241010T190000
DTEND;TZID=UTC:20241010T190000
DTSTAMP:20260424T123249
CREATED:20241004T074238Z
LAST-MODIFIED:20241004T074238Z
UID:3511-1728586800-1728586800@steelecooperativepreschool.org
SUMMARY:Parent Meeting
DESCRIPTION:
URL:https://steelecooperativepreschool.org/event/parent-meeting-oct24/
LOCATION:Steele Cooperative Preschool
CATEGORIES:Parent Meetings
END:VEVENT
BEGIN:VEVENT
DTSTART;TZID=UTC:20241016T160000
DTEND;TZID=UTC:20241016T160000
DTSTAMP:20260424T123249
CREATED:20241004T074549Z
LAST-MODIFIED:20241004T074549Z
UID:3514-1729094400-1729094400@steelecooperativepreschool.org
SUMMARY:Steele-A-Meal at Atomic Cowboy
DESCRIPTION:
URL:https://steelecooperativepreschool.org/event/steele-a-meal-at-atomic-cowboy/
LOCATION:Atomic Cowboy\, 4275 Tennyson St.\, Denver\, CO\, 80211\, United States
CATEGORIES:Social & Community Events
END:VEVENT
BEGIN:VEVENT
DTSTART;TZID=UTC:20241030T090000
DTEND;TZID=UTC:20241030T233000
DTSTAMP:20260424T123249
CREATED:20240819T035210Z
LAST-MODIFIED:20240819T035210Z
UID:3371-1730278800-1730331000@steelecooperativepreschool.org
SUMMARY:Polliwogs Halloween Party
DESCRIPTION:
URL:https://steelecooperativepreschool.org/event/polliwogs-halloween-party-2025/
LOCATION:Steele Cooperative Preschool
CATEGORIES:Class Parties
END:VEVENT
BEGIN:VEVENT
DTSTART;TZID=UTC:20241031T090000
DTEND;TZID=UTC:20241031T110000
DTSTAMP:20260424T123249
CREATED:20240810T175420Z
LAST-MODIFIED:20240810T175420Z
UID:3373-1730365200-1730372400@steelecooperativepreschool.org
SUMMARY:Tadpoles Halloween Party
DESCRIPTION:
URL:https://steelecooperativepreschool.org/event/tadpoles-halloween-party-2024/
LOCATION:Steele Cooperative Preschool
CATEGORIES:Celebrations
END:VEVENT
BEGIN:VEVENT
DTSTART;TZID=UTC:20241031T120000
DTEND;TZID=UTC:20241031T150000
DTSTAMP:20260424T123249
CREATED:20240810T175538Z
LAST-MODIFIED:20240810T175538Z
UID:3375-1730376000-1730386800@steelecooperativepreschool.org
SUMMARY:Frogs Halloween Party
DESCRIPTION:
URL:https://steelecooperativepreschool.org/event/frogs-halloween-party-2025/
LOCATION:Steele Cooperative Preschool
CATEGORIES:Celebrations
END:VEVENT
END:VCALENDAR