BEGIN:VCALENDAR
VERSION:2.0
PRODID:-//Steele Cooperative Preschool - ECPv6.4.0//NONSGML v1.0//EN
CALSCALE:GREGORIAN
METHOD:PUBLISH
X-WR-CALNAME:Steele Cooperative Preschool
X-ORIGINAL-URL:https://steelecooperativepreschool.org
X-WR-CALDESC:Events for Steele Cooperative Preschool
REFRESH-INTERVAL;VALUE=DURATION:PT1H
X-Robots-Tag:noindex
X-PUBLISHED-TTL:PT1H
BEGIN:VTIMEZONE
TZID:UTC
BEGIN:STANDARD
TZOFFSETFROM:+0000
TZOFFSETTO:+0000
TZNAME:UTC
DTSTART:20240101T000000
END:STANDARD
END:VTIMEZONE
BEGIN:VEVENT
DTSTART;TZID=UTC:20240903T090000
DTEND;TZID=UTC:20240903T110000
DTSTAMP:20260424T123946
CREATED:20240819T033506Z
LAST-MODIFIED:20240819T033506Z
UID:3325-1725354000-1725361200@steelecooperativepreschool.org
SUMMARY:First Day of School: Tadpoles
DESCRIPTION:
URL:https://steelecooperativepreschool.org/event/first-day-of-school-tadpoles-2024/
LOCATION:Steele Cooperative Preschool
CATEGORIES:First & Last Days
END:VEVENT
BEGIN:VEVENT
DTSTART;TZID=UTC:20240903T120000
DTEND;TZID=UTC:20240903T150000
DTSTAMP:20260424T123946
CREATED:20240810T170227Z
LAST-MODIFIED:20240810T170227Z
UID:3327-1725364800-1725375600@steelecooperativepreschool.org
SUMMARY:First Day of School: Frogs
DESCRIPTION:
URL:https://steelecooperativepreschool.org/event/first-day-of-school-frogs-2024/
LOCATION:Steele Cooperative Preschool
END:VEVENT
BEGIN:VEVENT
DTSTART;TZID=UTC:20240904T090000
DTEND;TZID=UTC:20240904T113000
DTSTAMP:20260424T123946
CREATED:20240810T170433Z
LAST-MODIFIED:20240810T170433Z
UID:3329-1725440400-1725449400@steelecooperativepreschool.org
SUMMARY:First Day of School: Polliwogs
DESCRIPTION:
URL:https://steelecooperativepreschool.org/event/first-day-of-school-polliwogs-2/
LOCATION:Steele Cooperative Preschool
END:VEVENT
BEGIN:VEVENT
DTSTART;TZID=UTC:20240906T173000
DTEND;TZID=UTC:20240906T193000
DTSTAMP:20260424T123946
CREATED:20240810T170820Z
LAST-MODIFIED:20240810T170820Z
UID:3331-1725643800-1725651000@steelecooperativepreschool.org
SUMMARY:All-School Picnic
DESCRIPTION:Come celebrate the end of summer and the start of the new school year! Bring your whole family and dinner/snacks to the park and meet other families attending Steele this year.
URL:https://steelecooperativepreschool.org/event/all-school-picnic-3/
LOCATION:Berkeley Park\, W 46th Ave & Sheridan Blvd\, Denver\, CO\, 80212\, United States
END:VEVENT
BEGIN:VEVENT
DTSTART;TZID=UTC:20240919T180000
DTEND;TZID=UTC:20240919T190000
DTSTAMP:20260424T123946
CREATED:20240810T171026Z
LAST-MODIFIED:20240810T171026Z
UID:3333-1726768800-1726772400@steelecooperativepreschool.org
SUMMARY:Makeup Sexual Assault Awareness Training
DESCRIPTION:For new families (and new aides for returning families) who were unable to attend the SAAT in August.
URL:https://steelecooperativepreschool.org/event/makeup-sexual-assault-awareness-training-2/
LOCATION:Steele Cooperative Preschool
END:VEVENT
BEGIN:VEVENT
DTSTART;TZID=UTC:20240928T090000
DTEND;TZID=UTC:20240928T170000
DTSTAMP:20260424T123946
CREATED:20241004T075748Z
LAST-MODIFIED:20241004T075748Z
UID:3526-1727514000-1727542800@steelecooperativepreschool.org
SUMMARY:Suds for Steele
DESCRIPTION:
URL:https://steelecooperativepreschool.org/event/suds-for-steele/
LOCATION:Gleam Car Wash\, 4895 W 38th Ave\, Denver\, CO\, 80211\, United States
END:VEVENT
END:VCALENDAR