BEGIN:VCALENDAR
VERSION:2.0
PRODID:-//Steele Cooperative Preschool - ECPv6.4.0//NONSGML v1.0//EN
CALSCALE:GREGORIAN
METHOD:PUBLISH
X-WR-CALNAME:Steele Cooperative Preschool
X-ORIGINAL-URL:https://steelecooperativepreschool.org
X-WR-CALDESC:Events for Steele Cooperative Preschool
REFRESH-INTERVAL;VALUE=DURATION:PT1H
X-Robots-Tag:noindex
X-PUBLISHED-TTL:PT1H
BEGIN:VTIMEZONE
TZID:UTC
BEGIN:STANDARD
TZOFFSETFROM:+0000
TZOFFSETTO:+0000
TZNAME:UTC
DTSTART:20240101T000000
END:STANDARD
END:VTIMEZONE
BEGIN:VEVENT
DTSTART;VALUE=DATE:20240815
DTEND;VALUE=DATE:20240816
DTSTAMP:20260424T155716
CREATED:20240810T164413Z
LAST-MODIFIED:20240819T035435Z
UID:3308-1723680000-1723766399@steelecooperativepreschool.org
SUMMARY:First Month's Tuition Due
DESCRIPTION:
URL:https://steelecooperativepreschool.org/event/first-months-tuition-due-3/
CATEGORIES:Tuition & Paperwork Due Dates
END:VEVENT
BEGIN:VEVENT
DTSTART;VALUE=DATE:20240815
DTEND;VALUE=DATE:20240816
DTSTAMP:20260424T155716
CREATED:20240810T164459Z
LAST-MODIFIED:20240819T040126Z
UID:3311-1723680000-1723766399@steelecooperativepreschool.org
SUMMARY:Enrollment Paperwork Due
DESCRIPTION:
URL:https://steelecooperativepreschool.org/event/enrollment-paperwork-due-2/
CATEGORIES:Tuition & Paperwork Due Dates
END:VEVENT
BEGIN:VEVENT
DTSTART;TZID=UTC:20240819T180000
DTEND;TZID=UTC:20240819T190000
DTSTAMP:20260424T155716
CREATED:20240810T164558Z
LAST-MODIFIED:20240810T164558Z
UID:3313-1724090400-1724094000@steelecooperativepreschool.org
SUMMARY:Board Member Meeting
DESCRIPTION:
URL:https://steelecooperativepreschool.org/event/board-member-meeting-5/
END:VEVENT
BEGIN:VEVENT
DTSTART;TZID=UTC:20240821T090000
DTEND;TZID=UTC:20240821T090000
DTSTAMP:20260424T155716
CREATED:20240810T165331Z
LAST-MODIFIED:20240810T165504Z
UID:3321-1724230800-1724230800@steelecooperativepreschool.org
SUMMARY:Meet the Teacher
DESCRIPTION:Each class (Tadpoles\, Polliwogs\, and Frogs) will gather on the school playground for 30 minutes to meet their teacher and classmates. Stay tuned for time slot assignments.
URL:https://steelecooperativepreschool.org/event/meet-the-teacher-2024/
LOCATION:Steele Cooperative Preschool
END:VEVENT
BEGIN:VEVENT
DTSTART;TZID=UTC:20240824T080000
DTEND;TZID=UTC:20240824T210000
DTSTAMP:20260424T155716
CREATED:20240810T164808Z
LAST-MODIFIED:20240810T164808Z
UID:3315-1724486400-1724533200@steelecooperativepreschool.org
SUMMARY:Back to School Meeting
DESCRIPTION:
URL:https://steelecooperativepreschool.org/event/back-to-school-meeting-3/
LOCATION:Steele Cooperative Preschool
END:VEVENT
BEGIN:VEVENT
DTSTART;TZID=UTC:20240824T090000
DTEND;TZID=UTC:20240824T100000
DTSTAMP:20260424T155716
CREATED:20240810T164930Z
LAST-MODIFIED:20240810T164930Z
UID:3317-1724490000-1724493600@steelecooperativepreschool.org
SUMMARY:Sexual Assault Awareness Training
DESCRIPTION:
URL:https://steelecooperativepreschool.org/event/sexual-assault-awareness-training-2/
LOCATION:Steele Cooperative Preschool
END:VEVENT
BEGIN:VEVENT
DTSTART;TZID=UTC:20240824T100000
DTEND;TZID=UTC:20240824T160000
DTSTAMP:20260424T155716
CREATED:20240810T165059Z
LAST-MODIFIED:20240810T165059Z
UID:3319-1724493600-1724515200@steelecooperativepreschool.org
SUMMARY:All School Clean
DESCRIPTION:
URL:https://steelecooperativepreschool.org/event/all-school-clean-6/
LOCATION:Steele Cooperative Preschool
END:VEVENT
END:VCALENDAR