BEGIN:VCALENDAR
VERSION:2.0
PRODID:-//Steele Cooperative Preschool - ECPv6.4.0//NONSGML v1.0//EN
CALSCALE:GREGORIAN
METHOD:PUBLISH
X-ORIGINAL-URL:https://steelecooperativepreschool.org
X-WR-CALDESC:Events for Steele Cooperative Preschool
REFRESH-INTERVAL;VALUE=DURATION:PT1H
X-Robots-Tag:noindex
X-PUBLISHED-TTL:PT1H
BEGIN:VTIMEZONE
TZID:UTC
BEGIN:STANDARD
TZOFFSETFROM:+0000
TZOFFSETTO:+0000
TZNAME:UTC
DTSTART:20240101T000000
END:STANDARD
END:VTIMEZONE
BEGIN:VEVENT
DTSTART;TZID=UTC:20240401T090000
DTEND;TZID=UTC:20240401T113000
DTSTAMP:20260425T172615
CREATED:20230804T055259Z
LAST-MODIFIED:20230804T055259Z
UID:2737-1711962000-1711971000@steelecooperativepreschool.org
SUMMARY:First Day Back: Polliwogs
DESCRIPTION:
URL:https://steelecooperativepreschool.org/event/first-day-back-polliwogs-2/
LOCATION:Steele Cooperative Preschool
END:VEVENT
BEGIN:VEVENT
DTSTART;TZID=UTC:20240401T120000
DTEND;TZID=UTC:20240401T150000
DTSTAMP:20260425T172615
CREATED:20230804T055347Z
LAST-MODIFIED:20230804T055347Z
UID:2739-1711972800-1711983600@steelecooperativepreschool.org
SUMMARY:First Day Back: Frogs
DESCRIPTION:
URL:https://steelecooperativepreschool.org/event/first-day-back-frogs-3/
LOCATION:Steele Cooperative Preschool
END:VEVENT
BEGIN:VEVENT
DTSTART;TZID=UTC:20240402T090000
DTEND;TZID=UTC:20240402T110000
DTSTAMP:20260425T172615
CREATED:20230804T055438Z
LAST-MODIFIED:20230804T055438Z
UID:2741-1712048400-1712055600@steelecooperativepreschool.org
SUMMARY:First Day Back: Tadpoles
DESCRIPTION:
URL:https://steelecooperativepreschool.org/event/first-day-back-tadpoles-2/
LOCATION:Steele Cooperative Preschool
END:VEVENT
BEGIN:VEVENT
DTSTART;TZID=UTC:20240405T113000
DTEND;TZID=UTC:20240405T153000
DTSTAMP:20260425T172615
CREATED:20240311T055311Z
LAST-MODIFIED:20240311T055311Z
UID:3096-1712316600-1712331000@steelecooperativepreschool.org
SUMMARY:School Reserved for Teacher Planning
DESCRIPTION:
URL:https://steelecooperativepreschool.org/event/school-reserved-for-teacher-planning/
END:VEVENT
BEGIN:VEVENT
DTSTART;TZID=UTC:20240411T180000
DTEND;TZID=UTC:20240411T190000
DTSTAMP:20260425T172615
CREATED:20230804T051829Z
LAST-MODIFIED:20230804T051829Z
UID:2677-1712858400-1712862000@steelecooperativepreschool.org
SUMMARY:Board Member Meeting
DESCRIPTION:
URL:https://steelecooperativepreschool.org/event/board-member-meeting-10/
LOCATION:Steele Cooperative Preschool
END:VEVENT
BEGIN:VEVENT
DTSTART;TZID=UTC:20240411T190000
DTEND;TZID=UTC:20240411T200000
DTSTAMP:20260425T172615
CREATED:20230804T052644Z
LAST-MODIFIED:20230804T052715Z
UID:2691-1712862000-1712865600@steelecooperativepreschool.org
SUMMARY:Parent Meeting
DESCRIPTION:Last Parent Meeting of the school year.
URL:https://steelecooperativepreschool.org/event/parent-meeting-24/
LOCATION:Steele Cooperative Preschool
END:VEVENT
END:VCALENDAR