BEGIN:VCALENDAR
VERSION:2.0
PRODID:-//Steele Cooperative Preschool - ECPv6.4.0//NONSGML v1.0//EN
CALSCALE:GREGORIAN
METHOD:PUBLISH
X-WR-CALNAME:Steele Cooperative Preschool
X-ORIGINAL-URL:https://steelecooperativepreschool.org
X-WR-CALDESC:Events for Steele Cooperative Preschool
REFRESH-INTERVAL;VALUE=DURATION:PT1H
X-Robots-Tag:noindex
X-PUBLISHED-TTL:PT1H
BEGIN:VTIMEZONE
TZID:UTC
BEGIN:STANDARD
TZOFFSETFROM:+0000
TZOFFSETTO:+0000
TZNAME:UTC
DTSTART:20230101T000000
END:STANDARD
END:VTIMEZONE
BEGIN:VEVENT
DTSTART;VALUE=DATE:20231218
DTEND;VALUE=DATE:20240104
DTSTAMP:20260426T025819
CREATED:20230804T054136Z
LAST-MODIFIED:20230804T054136Z
UID:2717-1702857600-1704326399@steelecooperativepreschool.org
SUMMARY:Winter Break
DESCRIPTION:
URL:https://steelecooperativepreschool.org/event/winter-break-5/
END:VEVENT
BEGIN:VEVENT
DTSTART;VALUE=DATE:20240101
DTEND;VALUE=DATE:20240102
DTSTAMP:20260426T025819
CREATED:20231012T053103Z
LAST-MODIFIED:20231012T053103Z
UID:2786-1704067200-1704153599@steelecooperativepreschool.org
SUMMARY:Registration Open for 2024-2025 School Year
DESCRIPTION:
URL:https://steelecooperativepreschool.org/event/registration-open-for-2024-2025-school-year/
END:VEVENT
BEGIN:VEVENT
DTSTART;VALUE=DATE:20240102
DTEND;VALUE=DATE:20240103
DTSTAMP:20260426T025819
CREATED:20230804T044602Z
LAST-MODIFIED:20230804T044602Z
UID:2630-1704153600-1704239999@steelecooperativepreschool.org
SUMMARY:Tuition Due
DESCRIPTION:
URL:https://steelecooperativepreschool.org/event/tuition-due-36/
END:VEVENT
BEGIN:VEVENT
DTSTART;TZID=UTC:20240104T090000
DTEND;TZID=UTC:20240104T110000
DTSTAMP:20260426T025819
CREATED:20230804T054232Z
LAST-MODIFIED:20230804T054232Z
UID:2719-1704358800-1704366000@steelecooperativepreschool.org
SUMMARY:First Day Back: Tadpoles
DESCRIPTION:
URL:https://steelecooperativepreschool.org/event/first-day-back-tadpoles/
LOCATION:Steele Cooperative Preschool
END:VEVENT
BEGIN:VEVENT
DTSTART;TZID=UTC:20240104T120000
DTEND;TZID=UTC:20240104T150000
DTSTAMP:20260426T025819
CREATED:20230804T054325Z
LAST-MODIFIED:20230804T054325Z
UID:2721-1704369600-1704380400@steelecooperativepreschool.org
SUMMARY:First Day Back: Frogs
DESCRIPTION:
URL:https://steelecooperativepreschool.org/event/first-day-back-frogs-2/
LOCATION:Steele Cooperative Preschool
END:VEVENT
BEGIN:VEVENT
DTSTART;TZID=UTC:20240105T090000
DTEND;TZID=UTC:20240105T113000
DTSTAMP:20260426T025819
CREATED:20230804T054431Z
LAST-MODIFIED:20230804T054431Z
UID:2723-1704445200-1704454200@steelecooperativepreschool.org
SUMMARY:First Day Back: Polliwogs
DESCRIPTION:
URL:https://steelecooperativepreschool.org/event/first-day-back-polliwogs/
LOCATION:Steele Cooperative Preschool
END:VEVENT
BEGIN:VEVENT
DTSTART;VALUE=DATE:20240108
DTEND;VALUE=DATE:20240109
DTSTAMP:20260426T025819
CREATED:20230804T045309Z
LAST-MODIFIED:20230804T045309Z
UID:2649-1704672000-1704758399@steelecooperativepreschool.org
SUMMARY:Late fee assessed for unpaid tuition
DESCRIPTION:
URL:https://steelecooperativepreschool.org/event/late-fee-assessed-for-unpaid-tuition-33/
END:VEVENT
BEGIN:VEVENT
DTSTART;TZID=UTC:20240111T180000
DTEND;TZID=UTC:20240111T180000
DTSTAMP:20260426T025819
CREATED:20230804T051532Z
LAST-MODIFIED:20230804T051532Z
UID:2672-1704996000-1704996000@steelecooperativepreschool.org
SUMMARY:Board Member Meeting
DESCRIPTION:
URL:https://steelecooperativepreschool.org/event/board-member-meeting-8/
LOCATION:Steele Cooperative Preschool
END:VEVENT
BEGIN:VEVENT
DTSTART;TZID=UTC:20240111T190000
DTEND;TZID=UTC:20240111T200000
DTSTAMP:20260426T025819
CREATED:20230804T052412Z
LAST-MODIFIED:20230804T052412Z
UID:2685-1704999600-1705003200@steelecooperativepreschool.org
SUMMARY:Parent Meeting
DESCRIPTION:
URL:https://steelecooperativepreschool.org/event/parent-meeting-21/
LOCATION:Steele Cooperative Preschool
END:VEVENT
BEGIN:VEVENT
DTSTART;VALUE=DATE:20240115
DTEND;VALUE=DATE:20240116
DTSTAMP:20260426T025819
CREATED:20230804T054534Z
LAST-MODIFIED:20230804T054534Z
UID:2725-1705276800-1705363199@steelecooperativepreschool.org
SUMMARY:No School: MLK Jr. Day
DESCRIPTION:
URL:https://steelecooperativepreschool.org/event/no-school-mlk-jr-day/
END:VEVENT
BEGIN:VEVENT
DTSTART;TZID=UTC:20240118T160000
DTEND;TZID=UTC:20240118T200000
DTSTAMP:20260426T025819
CREATED:20231006T054531Z
LAST-MODIFIED:20231006T054552Z
UID:2781-1705593600-1705608000@steelecooperativepreschool.org
SUMMARY:Steele-A-Meal: Shake Shack
DESCRIPTION:Socialize\, eat burgers (including vegetarian options!)\, and support Steele at Shake Shack. They will be donating to the school all day\, so if you can’t make dinner\, consider stopping by for lunch!
URL:https://steelecooperativepreschool.org/event/steele-a-meal-shake-shack-3/
LOCATION:Shake Shack\, 5507 W. 20th Ave\, Edgewater\, CO\, 80211\, United States
END:VEVENT
BEGIN:VEVENT
DTSTART;VALUE=DATE:20240129
DTEND;VALUE=DATE:20240130
DTSTAMP:20260426T025819
CREATED:20231109T170426Z
LAST-MODIFIED:20231109T170426Z
UID:2809-1706486400-1706572799@steelecooperativepreschool.org
SUMMARY:Steele-A-Deal Donations Due
DESCRIPTION:
URL:https://steelecooperativepreschool.org/event/steele-a-deal-donations-due-2/
END:VEVENT
END:VCALENDAR