BEGIN:VCALENDAR
VERSION:2.0
PRODID:-//Steele Cooperative Preschool - ECPv6.4.0//NONSGML v1.0//EN
CALSCALE:GREGORIAN
METHOD:PUBLISH
X-WR-CALNAME:Steele Cooperative Preschool
X-ORIGINAL-URL:https://steelecooperativepreschool.org
X-WR-CALDESC:Events for Steele Cooperative Preschool
REFRESH-INTERVAL;VALUE=DURATION:PT1H
X-Robots-Tag:noindex
X-PUBLISHED-TTL:PT1H
BEGIN:VTIMEZONE
TZID:UTC
BEGIN:STANDARD
TZOFFSETFROM:+0000
TZOFFSETTO:+0000
TZNAME:UTC
DTSTART:20220101T000000
END:STANDARD
END:VTIMEZONE
BEGIN:VEVENT
DTSTART;VALUE=DATE:20220301
DTEND;VALUE=DATE:20220302
DTSTAMP:20260425T121110
CREATED:20210825T034906Z
LAST-MODIFIED:20210825T034906Z
UID:1919-1646092800-1646179199@steelecooperativepreschool.org
SUMMARY:Tuition Due
DESCRIPTION:Tadpoles – $180 Cash/check/Venmo (checking); $185.52 PayPal/Venmo (credit card)\nPolliwogs – $205 Cash/check/Venmo (checking); $211.25 PayPal/Venmo (credit card)\nFrogs – $330 Cash/Check/Venmo (checking); $339.87 PayPal/Venmo (credit card)
URL:https://steelecooperativepreschool.org/event/tuition-due-26/
END:VEVENT
BEGIN:VEVENT
DTSTART;VALUE=DATE:20220307
DTEND;VALUE=DATE:20220308
DTSTAMP:20260425T121110
CREATED:20210825T035540Z
LAST-MODIFIED:20210825T035540Z
UID:1937-1646611200-1646697599@steelecooperativepreschool.org
SUMMARY:Late Fee Assessed for Unpaid Tuition
DESCRIPTION:
URL:https://steelecooperativepreschool.org/event/late-fee-assessed-for-unpaid-tuition-21/
END:VEVENT
BEGIN:VEVENT
DTSTART;TZID=UTC:20220310T180000
DTEND;TZID=UTC:20220310T190000
DTSTAMP:20260425T121110
CREATED:20210825T042256Z
LAST-MODIFIED:20220113T151334Z
UID:2006-1646935200-1646938800@steelecooperativepreschool.org
SUMMARY:Board Member Meeting - TBD
DESCRIPTION:
URL:https://steelecooperativepreschool.org/event/board-member-meeting-tbd-5/
END:VEVENT
BEGIN:VEVENT
DTSTART;TZID=UTC:20220310T190000
DTEND;TZID=UTC:20220310T200000
DTSTAMP:20260425T121110
CREATED:20210825T042326Z
LAST-MODIFIED:20220113T151418Z
UID:2008-1646938800-1646942400@steelecooperativepreschool.org
SUMMARY:Parent Meeting TBD
DESCRIPTION:
URL:https://steelecooperativepreschool.org/event/parent-meeting-tbd-4/
END:VEVENT
BEGIN:VEVENT
DTSTART;VALUE=DATE:20220321
DTEND;VALUE=DATE:20220405
DTSTAMP:20260425T121110
CREATED:20210802T194409Z
LAST-MODIFIED:20210802T194409Z
UID:1873-1647820800-1649116799@steelecooperativepreschool.org
SUMMARY:Spring Break - No School
DESCRIPTION:
URL:https://steelecooperativepreschool.org/event/spring-break-no-school/
END:VEVENT
BEGIN:VEVENT
DTSTART;VALUE=DATE:20220321
DTEND;VALUE=DATE:20220405
DTSTAMP:20260425T121110
CREATED:20210825T042415Z
LAST-MODIFIED:20210825T042415Z
UID:2010-1647820800-1649116799@steelecooperativepreschool.org
SUMMARY:Spring Break! No School
DESCRIPTION:Enjoy some family time together and come back with some stories of adventure!
URL:https://steelecooperativepreschool.org/event/spring-break-no-school-2/
END:VEVENT
BEGIN:VEVENT
DTSTART;TZID=UTC:20220322T091500
DTEND;TZID=UTC:20220322T150000
DTSTAMP:20260425T121110
CREATED:20220127T003852Z
LAST-MODIFIED:20220127T003852Z
UID:2129-1647940500-1647961200@steelecooperativepreschool.org
SUMMARY:Field Trip to DMNS
DESCRIPTION:Steele is heading to the Denver Museum of Nature and Science! \nMeet at 9:15 and be ready for a show at the Planetarium starting at 10:00 am. Finish up your day with a self guided tour of the museum.
URL:https://steelecooperativepreschool.org/event/field-trip-to-dmns/
LOCATION:Denver Museum of Nature & Science\, 2001 Colorado Blvd.\, Denver\, CO\, 80205\, United States
END:VEVENT
END:VCALENDAR