BEGIN:VCALENDAR
VERSION:2.0
PRODID:-//Steele Cooperative Preschool - ECPv6.4.0//NONSGML v1.0//EN
CALSCALE:GREGORIAN
METHOD:PUBLISH
X-WR-CALNAME:Steele Cooperative Preschool
X-ORIGINAL-URL:https://steelecooperativepreschool.org
X-WR-CALDESC:Events for Steele Cooperative Preschool
REFRESH-INTERVAL;VALUE=DURATION:PT1H
X-Robots-Tag:noindex
X-PUBLISHED-TTL:PT1H
BEGIN:VTIMEZONE
TZID:UTC
BEGIN:STANDARD
TZOFFSETFROM:+0000
TZOFFSETTO:+0000
TZNAME:UTC
DTSTART:20220101T000000
END:STANDARD
END:VTIMEZONE
BEGIN:VEVENT
DTSTART;VALUE=DATE:20220201
DTEND;VALUE=DATE:20220202
DTSTAMP:20260423T061610
CREATED:20210825T034839Z
LAST-MODIFIED:20210825T034839Z
UID:1917-1643673600-1643759999@steelecooperativepreschool.org
SUMMARY:Tuition Due
DESCRIPTION:Tadpoles – $180 Cash/check/Venmo (checking); $185.52 PayPal/Venmo (credit card)\nPolliwogs – $205 Cash/check/Venmo (checking); $211.25 PayPal/Venmo (credit card)\nFrogs – $330 Cash/Check/Venmo (checking); $339.87 PayPal/Venmo (credit card)
URL:https://steelecooperativepreschool.org/event/tuition-due-25/
END:VEVENT
BEGIN:VEVENT
DTSTART;VALUE=DATE:20220207
DTEND;VALUE=DATE:20220208
DTSTAMP:20260423T061611
CREATED:20210825T035523Z
LAST-MODIFIED:20210825T035523Z
UID:1935-1644192000-1644278399@steelecooperativepreschool.org
SUMMARY:Late Fee Assessed for Unpaid Tuition
DESCRIPTION:
URL:https://steelecooperativepreschool.org/event/late-fee-assessed-for-unpaid-tuition-20/
END:VEVENT
BEGIN:VEVENT
DTSTART;VALUE=DATE:20220210
DTEND;VALUE=DATE:20220211
DTSTAMP:20260423T061611
CREATED:20210825T042017Z
LAST-MODIFIED:20210825T042017Z
UID:1996-1644451200-1644537599@steelecooperativepreschool.org
SUMMARY:Valentine Parties - Tadpoles and PM Polliwogs
DESCRIPTION:Students will share the love with their classmates during their normal class time.
URL:https://steelecooperativepreschool.org/event/valentine-parties-tadpoles-and-pm-polliwogs/
END:VEVENT
BEGIN:VEVENT
DTSTART;TZID=UTC:20220210T180000
DTEND;TZID=UTC:20220210T190000
DTSTAMP:20260423T061611
CREATED:20210825T042052Z
LAST-MODIFIED:20220113T151239Z
UID:1998-1644516000-1644519600@steelecooperativepreschool.org
SUMMARY:Board Member Meeting - TBD
DESCRIPTION:
URL:https://steelecooperativepreschool.org/event/board-member-meeting-tbd-4/
END:VEVENT
BEGIN:VEVENT
DTSTART;TZID=UTC:20220210T190000
DTEND;TZID=UTC:20220210T200000
DTSTAMP:20260423T061611
CREATED:20210825T042119Z
LAST-MODIFIED:20220113T151314Z
UID:2000-1644519600-1644523200@steelecooperativepreschool.org
SUMMARY:Parent Meeting
DESCRIPTION:
URL:https://steelecooperativepreschool.org/event/parent-meeting-14/
END:VEVENT
BEGIN:VEVENT
DTSTART;VALUE=DATE:20220214
DTEND;VALUE=DATE:20220215
DTSTAMP:20260423T061611
CREATED:20210825T042156Z
LAST-MODIFIED:20210825T043807Z
UID:2002-1644796800-1644883199@steelecooperativepreschool.org
SUMMARY:Valentine Party - AM Polliwogs and Frogs
DESCRIPTION:Kids will get to share the love with their classmates during their normal class hours.
URL:https://steelecooperativepreschool.org/event/valentine-party-am-polliwogs-and-frogs/
END:VEVENT
BEGIN:VEVENT
DTSTART;VALUE=DATE:20220221
DTEND;VALUE=DATE:20220222
DTSTAMP:20260423T061611
CREATED:20210802T194312Z
LAST-MODIFIED:20210802T194312Z
UID:1871-1645401600-1645487999@steelecooperativepreschool.org
SUMMARY:Presidents' Day -  No School
DESCRIPTION:
URL:https://steelecooperativepreschool.org/event/presidents-day-no-school/
END:VEVENT
BEGIN:VEVENT
DTSTART;VALUE=DATE:20220221
DTEND;VALUE=DATE:20220222
DTSTAMP:20260423T061611
CREATED:20210825T042219Z
LAST-MODIFIED:20210825T042219Z
UID:2004-1645401600-1645487999@steelecooperativepreschool.org
SUMMARY:Presidents Day - No School
DESCRIPTION:
URL:https://steelecooperativepreschool.org/event/presidents-day-no-school-2/
END:VEVENT
END:VCALENDAR