BEGIN:VCALENDAR
VERSION:2.0
PRODID:-//Steele Cooperative Preschool - ECPv6.4.0//NONSGML v1.0//EN
CALSCALE:GREGORIAN
METHOD:PUBLISH
X-ORIGINAL-URL:https://steelecooperativepreschool.org
X-WR-CALDESC:Events for Steele Cooperative Preschool
REFRESH-INTERVAL;VALUE=DURATION:PT1H
X-Robots-Tag:noindex
X-PUBLISHED-TTL:PT1H
BEGIN:VTIMEZONE
TZID:UTC
BEGIN:STANDARD
TZOFFSETFROM:+0000
TZOFFSETTO:+0000
TZNAME:UTC
DTSTART:20210101T000000
END:STANDARD
END:VTIMEZONE
BEGIN:VEVENT
DTSTART;VALUE=DATE:20211101
DTEND;VALUE=DATE:20211102
DTSTAMP:20260422T233016
CREATED:20210825T034513Z
LAST-MODIFIED:20210825T034513Z
UID:1909-1635724800-1635811199@steelecooperativepreschool.org
SUMMARY:Tuition Due
DESCRIPTION:Tadpoles – $180 Cash/check/Venmo (checking); $185.52 PayPal/Venmo (credit card)\nPolliwogs – $205 Cash/check/Venmo (checking); $211.25 PayPal/Venmo (credit card)\nFrogs – $330 Cash/Check/Venmo (checking); $339.87 PayPal/Venmo (credit card)
URL:https://steelecooperativepreschool.org/event/tuition-due-21/
END:VEVENT
BEGIN:VEVENT
DTSTART;VALUE=DATE:20211101
DTEND;VALUE=DATE:20211102
DTSTAMP:20260422T233016
CREATED:20210825T040912Z
LAST-MODIFIED:20211102T163022Z
UID:1965-1635724800-1635811199@steelecooperativepreschool.org
SUMMARY:Auction Items Due
DESCRIPTION:Details TBD – donations will be needed for our annual Steele-A-Deal Online Auction. Please place in the bin on the front porch AND complete the online form Questions? Please reach out to Jennell.
URL:https://steelecooperativepreschool.org/event/auction-items-due/
END:VEVENT
BEGIN:VEVENT
DTSTART;VALUE=DATE:20211102
DTEND;VALUE=DATE:20211103
DTSTAMP:20260422T233016
CREATED:20211102T163116Z
LAST-MODIFIED:20211102T163116Z
UID:2064-1635811200-1635897599@steelecooperativepreschool.org
SUMMARY:No Classes - Tadpoles and PM Polliwogs
DESCRIPTION:Please make sure you are signed up for a parent/teacher conference. Conferences will take place during normally scheduled class time.
URL:https://steelecooperativepreschool.org/event/no-classes-tadpoles-and-pm-polliwogs/
END:VEVENT
BEGIN:VEVENT
DTSTART;VALUE=DATE:20211103
DTEND;VALUE=DATE:20211104
DTSTAMP:20260422T233016
CREATED:20211102T163145Z
LAST-MODIFIED:20211102T163145Z
UID:2066-1635897600-1635983999@steelecooperativepreschool.org
SUMMARY:No Class - AM Polliwogs
DESCRIPTION:Please make sure you are signed up for a parent/teacher conference. Conferences will take place during normally scheduled class time.
URL:https://steelecooperativepreschool.org/event/no-class-am-polliwogs/
END:VEVENT
BEGIN:VEVENT
DTSTART;VALUE=DATE:20211105
DTEND;VALUE=DATE:20211106
DTSTAMP:20260422T233016
CREATED:20211102T163219Z
LAST-MODIFIED:20211102T163219Z
UID:2068-1636070400-1636156799@steelecooperativepreschool.org
SUMMARY:No Class - Frogs
DESCRIPTION:Please make sure you are signed up for a parent/teacher conference. Conferences will take place during normally scheduled class time.
URL:https://steelecooperativepreschool.org/event/no-class-frogs/
END:VEVENT
BEGIN:VEVENT
DTSTART;VALUE=DATE:20211107
DTEND;VALUE=DATE:20211108
DTSTAMP:20260422T233016
CREATED:20210825T035346Z
LAST-MODIFIED:20210825T035346Z
UID:1929-1636243200-1636329599@steelecooperativepreschool.org
SUMMARY:Late Fee Assessed for Unpaid Tuition
DESCRIPTION:
URL:https://steelecooperativepreschool.org/event/late-fee-assessed-for-unpaid-tuition-17/
END:VEVENT
BEGIN:VEVENT
DTSTART;VALUE=DATE:20211108
DTEND;VALUE=DATE:20211113
DTSTAMP:20260422T233016
CREATED:20211102T163302Z
LAST-MODIFIED:20211102T163302Z
UID:2070-1636329600-1636761599@steelecooperativepreschool.org
SUMMARY:BIENVENIDOS FOOD DRIVE
DESCRIPTION:BIENVENIDOS FOOD DRIVE. A decades long Steele tradition! This event is a friendly competition between classes to see which class can collect the most of their designated item. Frog students will deliver our school’s donations to Bienvenidos on November 12 and take a tour of the facility while learning about their important mission.
URL:https://steelecooperativepreschool.org/event/bienvenidos-food-drive/
END:VEVENT
BEGIN:VEVENT
DTSTART;TZID=UTC:20211109T160000
DTEND;TZID=UTC:20211109T200000
DTSTAMP:20260422T233016
CREATED:20211102T163357Z
LAST-MODIFIED:20211103T175459Z
UID:2072-1636473600-1636488000@steelecooperativepreschool.org
SUMMARY:Steele a Meal @ Chipotle Highlands Square
DESCRIPTION:Steele a Meal @ Chipotle in Highlands Square on 32nd and Lowell. For online orders use code GX383DD for pickup only – no delivery. Please mention Steele at checkout so a portion of the proceeds come back to our school.
URL:https://steelecooperativepreschool.org/event/steele-a-meal-chipotle-highlands-square/
END:VEVENT
BEGIN:VEVENT
DTSTART;TZID=UTC:20211111T183000
DTEND;TZID=UTC:20211111T193000
DTSTAMP:20260422T233016
CREATED:20210825T040944Z
LAST-MODIFIED:20211102T163550Z
UID:1967-1636655400-1636659000@steelecooperativepreschool.org
SUMMARY:Board Member Meeting @ Diebolt Brewery
DESCRIPTION:Meeting at 6:30 : )
URL:https://steelecooperativepreschool.org/event/board-member-meeting-tbd-3/
END:VEVENT
BEGIN:VEVENT
DTSTART;TZID=UTC:20211111T193000
DTEND;TZID=UTC:20211111T203000
DTSTAMP:20260422T233016
CREATED:20210825T041010Z
LAST-MODIFIED:20211102T163508Z
UID:1969-1636659000-1636662600@steelecooperativepreschool.org
SUMMARY:Parent Meeting @ Diebolt Brewery!
DESCRIPTION: 7:30 Parent Meeting at Diebolt Brewery (Board meeting @ 6:30) In the event that you are not feeling well\, please do not attend and reach out to Cat.
URL:https://steelecooperativepreschool.org/event/parent-meeting-tbd-2/
END:VEVENT
BEGIN:VEVENT
DTSTART;VALUE=DATE:20211122
DTEND;VALUE=DATE:20211127
DTSTAMP:20260422T233016
CREATED:20210825T041057Z
LAST-MODIFIED:20210825T041057Z
UID:1971-1637539200-1637971199@steelecooperativepreschool.org
SUMMARY:Thanksgiving Break
DESCRIPTION:No school – have a great week off with your families!
URL:https://steelecooperativepreschool.org/event/thanksgiving-break-3/
END:VEVENT
END:VCALENDAR