BEGIN:VCALENDAR
VERSION:2.0
PRODID:-//Steele Cooperative Preschool - ECPv6.4.0//NONSGML v1.0//EN
CALSCALE:GREGORIAN
METHOD:PUBLISH
X-WR-CALNAME:Steele Cooperative Preschool
X-ORIGINAL-URL:https://steelecooperativepreschool.org
X-WR-CALDESC:Events for Steele Cooperative Preschool
REFRESH-INTERVAL;VALUE=DURATION:PT1H
X-Robots-Tag:noindex
X-PUBLISHED-TTL:PT1H
BEGIN:VTIMEZONE
TZID:UTC
BEGIN:STANDARD
TZOFFSETFROM:+0000
TZOFFSETTO:+0000
TZNAME:UTC
DTSTART:20240101T000000
END:STANDARD
END:VTIMEZONE
BEGIN:VEVENT
DTSTART;TZID=UTC:20241003T100000
DTEND;TZID=UTC:20241003T130000
DTSTAMP:20260423T201028
CREATED:20240810T174902Z
LAST-MODIFIED:20240810T174902Z
UID:3369-1727949600-1727960400@steelecooperativepreschool.org
SUMMARY:Anderson Farms Field Trip
DESCRIPTION:All-school field trip. Families provide their own transportation. Regularly-scheduled Tadpoles and Frogs classes will not be held this day.
URL:https://steelecooperativepreschool.org/event/anderson-farms-field-trip-2024/
LOCATION:Anderson Farms\, 6728 County Rd. 3 1/4\, Erie\, CO\, 80516
CATEGORIES:Field Trips
END:VEVENT
END:VCALENDAR