BEGIN:VCALENDAR
VERSION:2.0
PRODID:-//Steele Cooperative Preschool - ECPv6.4.0//NONSGML v1.0//EN
CALSCALE:GREGORIAN
METHOD:PUBLISH
X-ORIGINAL-URL:https://steelecooperativepreschool.org
X-WR-CALDESC:Events for Steele Cooperative Preschool
REFRESH-INTERVAL;VALUE=DURATION:PT1H
X-Robots-Tag:noindex
X-PUBLISHED-TTL:PT1H
BEGIN:VTIMEZONE
TZID:UTC
BEGIN:STANDARD
TZOFFSETFROM:+0000
TZOFFSETTO:+0000
TZNAME:UTC
DTSTART:20240101T000000
END:STANDARD
END:VTIMEZONE
BEGIN:VEVENT
DTSTART;TZID=UTC:20241123T093000
DTEND;TZID=UTC:20241123T120000
DTSTAMP:20260424T092722
CREATED:20241104T063711Z
LAST-MODIFIED:20241104T063711Z
UID:3549-1732354200-1732363200@steelecooperativepreschool.org
SUMMARY:School Reserved
DESCRIPTION:
URL:https://steelecooperativepreschool.org/event/school-reserved-4/
LOCATION:Steele Cooperative Preschool
END:VEVENT
END:VCALENDAR