BEGIN:VCALENDAR
VERSION:2.0
PRODID:-//Steele Cooperative Preschool - ECPv6.4.0//NONSGML v1.0//EN
CALSCALE:GREGORIAN
METHOD:PUBLISH
X-WR-CALNAME:Steele Cooperative Preschool
X-ORIGINAL-URL:https://steelecooperativepreschool.org
X-WR-CALDESC:Events for Steele Cooperative Preschool
REFRESH-INTERVAL;VALUE=DURATION:PT1H
X-Robots-Tag:noindex
X-PUBLISHED-TTL:PT1H
BEGIN:VTIMEZONE
TZID:UTC
BEGIN:STANDARD
TZOFFSETFROM:+0000
TZOFFSETTO:+0000
TZNAME:UTC
DTSTART:20240101T000000
END:STANDARD
END:VTIMEZONE
BEGIN:VEVENT
DTSTART;TZID=UTC:20240824T080000
DTEND;TZID=UTC:20240824T210000
DTSTAMP:20260425T041307
CREATED:20240810T164808Z
LAST-MODIFIED:20240810T164808Z
UID:3315-1724486400-1724533200@steelecooperativepreschool.org
SUMMARY:Back to School Meeting
DESCRIPTION:
URL:https://steelecooperativepreschool.org/event/back-to-school-meeting-3/
LOCATION:Steele Cooperative Preschool
END:VEVENT
BEGIN:VEVENT
DTSTART;TZID=UTC:20240824T090000
DTEND;TZID=UTC:20240824T100000
DTSTAMP:20260425T041307
CREATED:20240810T164930Z
LAST-MODIFIED:20240810T164930Z
UID:3317-1724490000-1724493600@steelecooperativepreschool.org
SUMMARY:Sexual Assault Awareness Training
DESCRIPTION:
URL:https://steelecooperativepreschool.org/event/sexual-assault-awareness-training-2/
LOCATION:Steele Cooperative Preschool
END:VEVENT
BEGIN:VEVENT
DTSTART;TZID=UTC:20240824T100000
DTEND;TZID=UTC:20240824T160000
DTSTAMP:20260425T041307
CREATED:20240810T165059Z
LAST-MODIFIED:20240810T165059Z
UID:3319-1724493600-1724515200@steelecooperativepreschool.org
SUMMARY:All School Clean
DESCRIPTION:
URL:https://steelecooperativepreschool.org/event/all-school-clean-6/
LOCATION:Steele Cooperative Preschool
END:VEVENT
END:VCALENDAR