BEGIN:VCALENDAR
VERSION:2.0
PRODID:-//Steele Cooperative Preschool - ECPv6.4.0//NONSGML v1.0//EN
CALSCALE:GREGORIAN
METHOD:PUBLISH
X-ORIGINAL-URL:https://steelecooperativepreschool.org
X-WR-CALDESC:Events for Steele Cooperative Preschool
REFRESH-INTERVAL;VALUE=DURATION:PT1H
X-Robots-Tag:noindex
X-PUBLISHED-TTL:PT1H
BEGIN:VTIMEZONE
TZID:UTC
BEGIN:STANDARD
TZOFFSETFROM:+0000
TZOFFSETTO:+0000
TZNAME:UTC
DTSTART:20220101T000000
END:STANDARD
END:VTIMEZONE
BEGIN:VEVENT
DTSTART;VALUE=DATE:20220524
DTEND;VALUE=DATE:20220525
DTSTAMP:20260426T010947
CREATED:20210802T194633Z
LAST-MODIFIED:20210802T194633Z
UID:1877-1653350400-1653436799@steelecooperativepreschool.org
SUMMARY:Tadpoles & PM Pollis - Last Day of School
DESCRIPTION:
URL:https://steelecooperativepreschool.org/event/tadpoles-pm-pollis-last-day-of-school/
END:VEVENT
BEGIN:VEVENT
DTSTART;VALUE=DATE:20220524
DTEND;VALUE=DATE:20220525
DTSTAMP:20260426T010947
CREATED:20210825T042620Z
LAST-MODIFIED:20210825T042620Z
UID:2018-1653350400-1653436799@steelecooperativepreschool.org
SUMMARY:Last Day of School - Tadpoles and PM Polliwogs
DESCRIPTION:I’m not crying – you’re crying!
URL:https://steelecooperativepreschool.org/event/last-day-of-school-tadpoles-and-pm-polliwogs/
END:VEVENT
END:VCALENDAR