BEGIN:VCALENDAR
VERSION:2.0
PRODID:-//Steele Cooperative Preschool - ECPv6.4.0//NONSGML v1.0//EN
CALSCALE:GREGORIAN
METHOD:PUBLISH
X-WR-CALNAME:Steele Cooperative Preschool
X-ORIGINAL-URL:https://steelecooperativepreschool.org
X-WR-CALDESC:Events for Steele Cooperative Preschool
REFRESH-INTERVAL;VALUE=DURATION:PT1H
X-Robots-Tag:noindex
X-PUBLISHED-TTL:PT1H
BEGIN:VTIMEZONE
TZID:UTC
BEGIN:STANDARD
TZOFFSETFROM:+0000
TZOFFSETTO:+0000
TZNAME:UTC
DTSTART:20220101T000000
END:STANDARD
END:VTIMEZONE
BEGIN:VEVENT
DTSTART;TZID=UTC:20220503T160000
DTEND;TZID=UTC:20220503T200000
DTSTAMP:20260425T215032
CREATED:20220116T203113Z
LAST-MODIFIED:20220116T203113Z
UID:2121-1651593600-1651608000@steelecooperativepreschool.org
SUMMARY:Steele A Meal @ Chipotle
DESCRIPTION:Save yourself from cooking and help Steele raise a little dough! 4-8 pm\, Highlands location at 32nd and Lowell only. You MUST mention Steele at checkout.
URL:https://steelecooperativepreschool.org/event/steele-a-meal-chipotle/
END:VEVENT
END:VCALENDAR