BEGIN:VCALENDAR
VERSION:2.0
PRODID:-//Steele Cooperative Preschool - ECPv6.4.0//NONSGML v1.0//EN
CALSCALE:GREGORIAN
METHOD:PUBLISH
X-ORIGINAL-URL:https://steelecooperativepreschool.org
X-WR-CALDESC:Events for Steele Cooperative Preschool
REFRESH-INTERVAL;VALUE=DURATION:PT1H
X-Robots-Tag:noindex
X-PUBLISHED-TTL:PT1H
BEGIN:VTIMEZONE
TZID:UTC
BEGIN:STANDARD
TZOFFSETFROM:+0000
TZOFFSETTO:+0000
TZNAME:UTC
DTSTART:20220101T000000
END:STANDARD
END:VTIMEZONE
BEGIN:VEVENT
DTSTART;VALUE=DATE:20220430
DTEND;VALUE=DATE:20220501
DTSTAMP:20260425T202244
CREATED:20211116T045726Z
LAST-MODIFIED:20220420T171324Z
UID:2087-1651276800-1651363199@steelecooperativepreschool.org
SUMMARY:Steele Your Heart 5K and Fun Run
DESCRIPTION:Steele’s very own second annual 5k and fun run. 9:00 am at Anderson Park. Click here to register!
URL:https://steelecooperativepreschool.org/event/steele-your-heart-5k-and-fun-run/
END:VEVENT
END:VCALENDAR