BEGIN:VCALENDAR
VERSION:2.0
PRODID:-//Steele Cooperative Preschool - ECPv6.4.0//NONSGML v1.0//EN
CALSCALE:GREGORIAN
METHOD:PUBLISH
X-ORIGINAL-URL:https://steelecooperativepreschool.org
X-WR-CALDESC:Events for Steele Cooperative Preschool
REFRESH-INTERVAL;VALUE=DURATION:PT1H
X-Robots-Tag:noindex
X-PUBLISHED-TTL:PT1H
BEGIN:VTIMEZONE
TZID:UTC
BEGIN:STANDARD
TZOFFSETFROM:+0000
TZOFFSETTO:+0000
TZNAME:UTC
DTSTART:20220101T000000
END:STANDARD
END:VTIMEZONE
BEGIN:VEVENT
DTSTART;TZID=UTC:20220412T170000
DTEND;TZID=UTC:20220412T200000
DTSTAMP:20260426T010942
CREATED:20220405T173636Z
LAST-MODIFIED:20220405T173636Z
UID:2161-1649782800-1649793600@steelecooperativepreschool.org
SUMMARY:Steele-a-Meal @ Crush Pizza + Tap
DESCRIPTION:We are so excited to partner up with Crush Pizza + Tap in on 38th Ave. for our April “Steele-a-Meal”. Their team has graciously offered to donate 15% of all dine in sales between 5pm-8pm.  So… mark your calendars and let’s FILL THE PLACE!  Be sure to share with your networking circles\, friends\, acquaintances\, family… everyone 🙂  \nWhere:  Crush Pizza + Tap\n1200 W. 38th Ave.\nDenver\, CO\, 80211\nWhen: 4/12/22 | 5-8pm DINE IN ONLY
URL:https://steelecooperativepreschool.org/event/steele-a-meal-crush-pizza-tap/
END:VEVENT
END:VCALENDAR