BEGIN:VCALENDAR
VERSION:2.0
PRODID:-//Steele Cooperative Preschool - ECPv6.4.0//NONSGML v1.0//EN
CALSCALE:GREGORIAN
METHOD:PUBLISH
X-WR-CALNAME:Steele Cooperative Preschool
X-ORIGINAL-URL:https://steelecooperativepreschool.org
X-WR-CALDESC:Events for Steele Cooperative Preschool
REFRESH-INTERVAL;VALUE=DURATION:PT1H
X-Robots-Tag:noindex
X-PUBLISHED-TTL:PT1H
BEGIN:VTIMEZONE
TZID:UTC
BEGIN:STANDARD
TZOFFSETFROM:+0000
TZOFFSETTO:+0000
TZNAME:UTC
DTSTART:20220101T000000
END:STANDARD
END:VTIMEZONE
BEGIN:VEVENT
DTSTART;TZID=UTC:20220120T093000
DTEND;TZID=UTC:20220120T133000
DTSTAMP:20260423T111311
CREATED:20211116T045607Z
LAST-MODIFIED:20211116T045607Z
UID:2085-1642671000-1642685400@steelecooperativepreschool.org
SUMMARY:Steele @ The Stock Show!
DESCRIPTION:Steele is headed back to the National Western Stock Show! Details to follow from your teacher – students must be accompanied by a grown up.
URL:https://steelecooperativepreschool.org/event/steele-the-stock-show/
END:VEVENT
END:VCALENDAR