BEGIN:VCALENDAR
VERSION:2.0
PRODID:-//Steele Cooperative Preschool - ECPv6.4.0//NONSGML v1.0//EN
CALSCALE:GREGORIAN
METHOD:PUBLISH
X-ORIGINAL-URL:https://steelecooperativepreschool.org
X-WR-CALDESC:Events for Steele Cooperative Preschool
REFRESH-INTERVAL;VALUE=DURATION:PT1H
X-Robots-Tag:noindex
X-PUBLISHED-TTL:PT1H
BEGIN:VTIMEZONE
TZID:UTC
BEGIN:STANDARD
TZOFFSETFROM:+0000
TZOFFSETTO:+0000
TZNAME:UTC
DTSTART:20220101T000000
END:STANDARD
END:VTIMEZONE
BEGIN:VEVENT
DTSTART;VALUE=DATE:20220117
DTEND;VALUE=DATE:20220118
DTSTAMP:20260423T061648
CREATED:20210802T194224Z
LAST-MODIFIED:20210802T194224Z
UID:1869-1642377600-1642463999@steelecooperativepreschool.org
SUMMARY:MLK Jr. Day - No School
DESCRIPTION:
URL:https://steelecooperativepreschool.org/event/mlk-jr-day-no-school/
END:VEVENT
BEGIN:VEVENT
DTSTART;VALUE=DATE:20220117
DTEND;VALUE=DATE:20220118
DTSTAMP:20260423T061648
CREATED:20210825T041922Z
LAST-MODIFIED:20210825T041922Z
UID:1994-1642377600-1642463999@steelecooperativepreschool.org
SUMMARY:MLK Day - No School
DESCRIPTION:
URL:https://steelecooperativepreschool.org/event/mlk-day-no-school/
END:VEVENT
END:VCALENDAR