BEGIN:VCALENDAR
VERSION:2.0
PRODID:-//Steele Cooperative Preschool - ECPv6.4.0//NONSGML v1.0//EN
CALSCALE:GREGORIAN
METHOD:PUBLISH
X-ORIGINAL-URL:https://steelecooperativepreschool.org
X-WR-CALDESC:Events for Steele Cooperative Preschool
REFRESH-INTERVAL;VALUE=DURATION:PT1H
X-Robots-Tag:noindex
X-PUBLISHED-TTL:PT1H
BEGIN:VTIMEZONE
TZID:UTC
BEGIN:STANDARD
TZOFFSETFROM:+0000
TZOFFSETTO:+0000
TZNAME:UTC
DTSTART:20210101T000000
END:STANDARD
END:VTIMEZONE
BEGIN:VEVENT
DTSTART;VALUE=DATE:20211216
DTEND;VALUE=DATE:20211217
DTSTAMP:20260423T011755
CREATED:20210825T041403Z
LAST-MODIFIED:20210825T041403Z
UID:1977-1639612800-1639699199@steelecooperativepreschool.org
SUMMARY:Tadpole and PM Polliwog Holiday Parties
DESCRIPTION:Kids will get to celebrate the holidays with their classmates during their normal class hours.
URL:https://steelecooperativepreschool.org/event/tadpole-and-pm-polliwog-holiday-parties/
END:VEVENT
END:VCALENDAR