BEGIN:VCALENDAR
VERSION:2.0
PRODID:-//Steele Cooperative Preschool - ECPv6.4.0//NONSGML v1.0//EN
CALSCALE:GREGORIAN
METHOD:PUBLISH
X-WR-CALNAME:Steele Cooperative Preschool
X-ORIGINAL-URL:https://steelecooperativepreschool.org
X-WR-CALDESC:Events for Steele Cooperative Preschool
REFRESH-INTERVAL;VALUE=DURATION:PT1H
X-Robots-Tag:noindex
X-PUBLISHED-TTL:PT1H
BEGIN:VTIMEZONE
TZID:UTC
BEGIN:STANDARD
TZOFFSETFROM:+0000
TZOFFSETTO:+0000
TZNAME:UTC
DTSTART:20210101T000000
END:STANDARD
END:VTIMEZONE
BEGIN:VEVENT
DTSTART;TZID=UTC:20211215T084500
DTEND;TZID=UTC:20211215T111500
DTSTAMP:20260423T025649
CREATED:20210825T041326Z
LAST-MODIFIED:20210825T041326Z
UID:1975-1639557900-1639566900@steelecooperativepreschool.org
SUMMARY:AM Polliwog Holiday Party
DESCRIPTION:Kids will get to celebrate the holidays with their classmates during their normal class hours.
URL:https://steelecooperativepreschool.org/event/am-polliwog-holiday-party/
END:VEVENT
END:VCALENDAR