BEGIN:VCALENDAR
VERSION:2.0
PRODID:-//Steele Cooperative Preschool - ECPv6.4.0//NONSGML v1.0//EN
CALSCALE:GREGORIAN
METHOD:PUBLISH
X-ORIGINAL-URL:https://steelecooperativepreschool.org
X-WR-CALDESC:Events for Steele Cooperative Preschool
REFRESH-INTERVAL;VALUE=DURATION:PT1H
X-Robots-Tag:noindex
X-PUBLISHED-TTL:PT1H
BEGIN:VTIMEZONE
TZID:UTC
BEGIN:STANDARD
TZOFFSETFROM:+0000
TZOFFSETTO:+0000
TZNAME:UTC
DTSTART:20210101T000000
END:STANDARD
END:VTIMEZONE
BEGIN:VEVENT
DTSTART;VALUE=DATE:20211108
DTEND;VALUE=DATE:20211113
DTSTAMP:20260423T010948
CREATED:20211102T163302Z
LAST-MODIFIED:20211102T163302Z
UID:2070-1636329600-1636761599@steelecooperativepreschool.org
SUMMARY:BIENVENIDOS FOOD DRIVE
DESCRIPTION:BIENVENIDOS FOOD DRIVE. A decades long Steele tradition! This event is a friendly competition between classes to see which class can collect the most of their designated item. Frog students will deliver our school’s donations to Bienvenidos on November 12 and take a tour of the facility while learning about their important mission.
URL:https://steelecooperativepreschool.org/event/bienvenidos-food-drive/
END:VEVENT
END:VCALENDAR