BEGIN:VCALENDAR
VERSION:2.0
PRODID:-//Steele Cooperative Preschool - ECPv6.4.0//NONSGML v1.0//EN
CALSCALE:GREGORIAN
METHOD:PUBLISH
X-WR-CALNAME:Steele Cooperative Preschool
X-ORIGINAL-URL:https://steelecooperativepreschool.org
X-WR-CALDESC:Events for Steele Cooperative Preschool
REFRESH-INTERVAL;VALUE=DURATION:PT1H
X-Robots-Tag:noindex
X-PUBLISHED-TTL:PT1H
BEGIN:VTIMEZONE
TZID:UTC
BEGIN:STANDARD
TZOFFSETFROM:+0000
TZOFFSETTO:+0000
TZNAME:UTC
DTSTART:20210101T000000
END:STANDARD
END:VTIMEZONE
BEGIN:VEVENT
DTSTART;VALUE=DATE:20211105
DTEND;VALUE=DATE:20211106
DTSTAMP:20260422T195301
CREATED:20211102T163219Z
LAST-MODIFIED:20211102T163219Z
UID:2068-1636070400-1636156799@steelecooperativepreschool.org
SUMMARY:No Class - Frogs
DESCRIPTION:Please make sure you are signed up for a parent/teacher conference. Conferences will take place during normally scheduled class time.
URL:https://steelecooperativepreschool.org/event/no-class-frogs/
END:VEVENT
END:VCALENDAR