BEGIN:VCALENDAR
VERSION:2.0
PRODID:-//Steele Cooperative Preschool - ECPv6.4.0//NONSGML v1.0//EN
CALSCALE:GREGORIAN
METHOD:PUBLISH
X-ORIGINAL-URL:https://steelecooperativepreschool.org
X-WR-CALDESC:Events for Steele Cooperative Preschool
REFRESH-INTERVAL;VALUE=DURATION:PT1H
X-Robots-Tag:noindex
X-PUBLISHED-TTL:PT1H
BEGIN:VTIMEZONE
TZID:UTC
BEGIN:STANDARD
TZOFFSETFROM:+0000
TZOFFSETTO:+0000
TZNAME:UTC
DTSTART:20210101T000000
END:STANDARD
END:VTIMEZONE
BEGIN:VEVENT
DTSTART;TZID=UTC:20211029T120000
DTEND;TZID=UTC:20211029T150000
DTSTAMP:20260422T214152
CREATED:20210825T040819Z
LAST-MODIFIED:20210825T040819Z
UID:1963-1635508800-1635519600@steelecooperativepreschool.org
SUMMARY:Frog Halloween Party
DESCRIPTION:Kiddos will have a chance to show off their costumes during the normal school hours. Plan to bring some sort of goodie (toy\, craft supply\, stickers\, tattoos\, socks\, goo… anything fun!) to give kids as they parade around a trick or treat.
URL:https://steelecooperativepreschool.org/event/frog-halloween-party/
END:VEVENT
END:VCALENDAR