BEGIN:VCALENDAR
VERSION:2.0
PRODID:-//Steele Cooperative Preschool - ECPv6.4.0//NONSGML v1.0//EN
CALSCALE:GREGORIAN
METHOD:PUBLISH
X-ORIGINAL-URL:https://steelecooperativepreschool.org
X-WR-CALDESC:Events for Steele Cooperative Preschool
REFRESH-INTERVAL;VALUE=DURATION:PT1H
X-Robots-Tag:noindex
X-PUBLISHED-TTL:PT1H
BEGIN:VTIMEZONE
TZID:UTC
BEGIN:STANDARD
TZOFFSETFROM:+0000
TZOFFSETTO:+0000
TZNAME:UTC
DTSTART:20210101T000000
END:STANDARD
END:VTIMEZONE
BEGIN:VEVENT
DTSTART;VALUE=DATE:20211016
DTEND;VALUE=DATE:20211018
DTSTAMP:20260423T025737
CREATED:20210825T040502Z
LAST-MODIFIED:20210927T204040Z
UID:1957-1634342400-1634515199@steelecooperativepreschool.org
SUMMARY:Steele A Shot Fundraiser
DESCRIPTION:Hillary Wertenberger (AM Polli Parent) will be capturing smiles and memories all while donating 50% back to Steele Cooperative Preschool!  All photo shoots will take place on the Regis University Campus (northwest corner of the commons)  Parking is available at 50th and Lowell.\nThe cost is $100 and covers the 20min session as well as downloads (with digital/print release) of your favorite 5 images.  Opportunities to purchase the entire album will also be available through Hillary.\nMore info and reserve your time slot here
URL:https://steelecooperativepreschool.org/event/steele-a-shot-fundraiser/
END:VEVENT
END:VCALENDAR