BEGIN:VCALENDAR
VERSION:2.0
PRODID:-//Steele Cooperative Preschool - ECPv6.4.0//NONSGML v1.0//EN
CALSCALE:GREGORIAN
METHOD:PUBLISH
X-ORIGINAL-URL:https://steelecooperativepreschool.org
X-WR-CALDESC:Events for Steele Cooperative Preschool
REFRESH-INTERVAL;VALUE=DURATION:PT1H
X-Robots-Tag:noindex
X-PUBLISHED-TTL:PT1H
BEGIN:VTIMEZONE
TZID:UTC
BEGIN:STANDARD
TZOFFSETFROM:+0000
TZOFFSETTO:+0000
TZNAME:UTC
DTSTART:20210101T000000
END:STANDARD
END:VTIMEZONE
BEGIN:VEVENT
DTSTART;VALUE=DATE:20211014
DTEND;VALUE=DATE:20211015
DTSTAMP:20260423T025955
CREATED:20210825T040231Z
LAST-MODIFIED:20210825T040231Z
UID:1953-1634169600-1634255999@steelecooperativepreschool.org
SUMMARY:Board Member Meeting TBD
DESCRIPTION:
URL:https://steelecooperativepreschool.org/event/board-member-meeting-tbd-2/
END:VEVENT
BEGIN:VEVENT
DTSTART;TZID=UTC:20211014T180000
DTEND;TZID=UTC:20211014T190000
DTSTAMP:20260423T025955
CREATED:20210825T040311Z
LAST-MODIFIED:20210927T203523Z
UID:1955-1634234400-1634238000@steelecooperativepreschool.org
SUMMARY:Parent Meeting
DESCRIPTION:Panorama Park (35th and Fenton)\nPlease bring a chair or blanket and let me know if you are unable to attend.\nWe will zoom if the weather does not cooperate.
URL:https://steelecooperativepreschool.org/event/parent-meeting-tbd/
END:VEVENT
END:VCALENDAR