BEGIN:VCALENDAR
VERSION:2.0
PRODID:-//Steele Cooperative Preschool - ECPv6.4.0//NONSGML v1.0//EN
CALSCALE:GREGORIAN
METHOD:PUBLISH
X-WR-CALNAME:Steele Cooperative Preschool
X-ORIGINAL-URL:https://steelecooperativepreschool.org
X-WR-CALDESC:Events for Steele Cooperative Preschool
REFRESH-INTERVAL;VALUE=DURATION:PT1H
X-Robots-Tag:noindex
X-PUBLISHED-TTL:PT1H
BEGIN:VTIMEZONE
TZID:UTC
BEGIN:STANDARD
TZOFFSETFROM:+0000
TZOFFSETTO:+0000
TZNAME:UTC
DTSTART:20210101T000000
END:STANDARD
END:VTIMEZONE
BEGIN:VEVENT
DTSTART;TZID=UTC:20211013T100000
DTEND;TZID=UTC:20211013T140000
DTSTAMP:20260423T043516
CREATED:20210915T200803Z
LAST-MODIFIED:20210915T201110Z
UID:2050-1634119200-1634133600@steelecooperativepreschool.org
SUMMARY:Steele All-School Fall Field Trip
DESCRIPTION:  Anderson Farms 
URL:https://steelecooperativepreschool.org/event/steele-all-school-fall-field-trip/
LOCATION:Anderson Farms\, 6728 County Rd. 3 1/4\, Erie\, CO\, 80516
END:VEVENT
BEGIN:VEVENT
DTSTART;TZID=UTC:20211013T100000
DTEND;TZID=UTC:20211013T140000
DTSTAMP:20260423T043516
CREATED:20210927T203340Z
LAST-MODIFIED:20210927T203442Z
UID:2057-1634119200-1634133600@steelecooperativepreschool.org
SUMMARY:Anderson Farm All School Field Trip
DESCRIPTION:Information and permission slips can be found here and in your child’s school cubby. There will be no Wednesday classes on this day.
URL:https://steelecooperativepreschool.org/event/anderson-farm-all-school-field-trip/
END:VEVENT
END:VCALENDAR