BEGIN:VCALENDAR
VERSION:2.0
PRODID:-//Steele Cooperative Preschool - ECPv6.4.0//NONSGML v1.0//EN
CALSCALE:GREGORIAN
METHOD:PUBLISH
X-ORIGINAL-URL:https://steelecooperativepreschool.org
X-WR-CALDESC:Events for Steele Cooperative Preschool
REFRESH-INTERVAL;VALUE=DURATION:PT1H
X-Robots-Tag:noindex
X-PUBLISHED-TTL:PT1H
BEGIN:VTIMEZONE
TZID:UTC
BEGIN:STANDARD
TZOFFSETFROM:+0000
TZOFFSETTO:+0000
TZNAME:UTC
DTSTART:20210101T000000
END:STANDARD
END:VTIMEZONE
BEGIN:VEVENT
DTSTART;VALUE=DATE:20211007
DTEND;VALUE=DATE:20211008
DTSTAMP:20260422T195425
CREATED:20210825T035325Z
LAST-MODIFIED:20210825T035325Z
UID:1927-1633564800-1633651199@steelecooperativepreschool.org
SUMMARY:Late Fee Assessed for Unpaid Tuition
DESCRIPTION:
URL:https://steelecooperativepreschool.org/event/late-fee-assessed-for-unpaid-tuition-16/
END:VEVENT
BEGIN:VEVENT
DTSTART;TZID=UTC:20211007T173000
DTEND;TZID=UTC:20211007T190000
DTSTAMP:20260422T195425
CREATED:20210825T040204Z
LAST-MODIFIED:20210927T203142Z
UID:1951-1633627800-1633633200@steelecooperativepreschool.org
SUMMARY:Steele The Show @ Radiator
DESCRIPTION:Outside at The Radiator. Support Steele at a comedy fundraiser starring Ben Roy! Tickets $25: includes a drink ticket. Doors open at 5:00pm\, food and drink options also for purchase. More info and ticket sales here
URL:https://steelecooperativepreschool.org/event/steele-a-laugh-radiator/
END:VEVENT
END:VCALENDAR