BEGIN:VCALENDAR
VERSION:2.0
PRODID:-//Steele Cooperative Preschool - ECPv6.4.0//NONSGML v1.0//EN
CALSCALE:GREGORIAN
METHOD:PUBLISH
X-ORIGINAL-URL:https://steelecooperativepreschool.org
X-WR-CALDESC:Events for Steele Cooperative Preschool
REFRESH-INTERVAL;VALUE=DURATION:PT1H
X-Robots-Tag:noindex
X-PUBLISHED-TTL:PT1H
BEGIN:VTIMEZONE
TZID:UTC
BEGIN:STANDARD
TZOFFSETFROM:+0000
TZOFFSETTO:+0000
TZNAME:UTC
DTSTART:20210101T000000
END:STANDARD
END:VTIMEZONE
BEGIN:VEVENT
DTSTART;TZID=UTC:20210910T173000
DTEND;TZID=UTC:20210910T190000
DTSTAMP:20260422T164643
CREATED:20210825T035938Z
LAST-MODIFIED:20210825T205533Z
UID:1947-1631295000-1631300400@steelecooperativepreschool.org
SUMMARY:All School Picnic
DESCRIPTION:5:30 pm at Berkeley Park\, bring your own dinner : ) \n 
URL:https://steelecooperativepreschool.org/event/all-school-picnic/
END:VEVENT
END:VCALENDAR