BEGIN:VCALENDAR
VERSION:2.0
PRODID:-//Steele Cooperative Preschool - ECPv6.4.0//NONSGML v1.0//EN
CALSCALE:GREGORIAN
METHOD:PUBLISH
X-WR-CALNAME:Steele Cooperative Preschool
X-ORIGINAL-URL:https://steelecooperativepreschool.org
X-WR-CALDESC:Events for Steele Cooperative Preschool
REFRESH-INTERVAL;VALUE=DURATION:PT1H
X-Robots-Tag:noindex
X-PUBLISHED-TTL:PT1H
BEGIN:VTIMEZONE
TZID:UTC
BEGIN:STANDARD
TZOFFSETFROM:+0000
TZOFFSETTO:+0000
TZNAME:UTC
DTSTART:20210101T000000
END:STANDARD
END:VTIMEZONE
BEGIN:VEVENT
DTSTART;VALUE=DATE:20210825
DTEND;VALUE=DATE:20210826
DTSTAMP:20260421T152808
CREATED:20210510T203823Z
LAST-MODIFIED:20210822T035755Z
UID:1853-1629849600-1629935999@steelecooperativepreschool.org
SUMMARY:Meet the Teacher
DESCRIPTION:Please come by Steele to meet your amazing teachers for the year\, Lorelei\, Debbie\, and Vanessa. \n9:00 – 9:45 am – Tadpoles with Teacher Lorelei\n9:45 – 10:30 am – PM Polliwogs with Teacher Debbie\n10:30 – 11:15 am – AM Polliwogs with Teacher Vanessa\n11:15 – 12:00 pm – Frogs with Teacher Vanessa \n(this event happens out on our playground\, the inside of the school will be a work in progress as we get everything ready\, and not open yet. If you could please be aware of the times so we can start the next session on time we would greatly appreciate it. If you’re having a great time getting to know your class feel free to gather at Highlands park afterwards)
URL:https://steelecooperativepreschool.org/event/meet-the-teacher/
END:VEVENT
END:VCALENDAR